BEGIN:VCALENDAR
VERSION:2.0
PRODID:-//Franken VIBES - ECPv6.15.18//NONSGML v1.0//EN
CALSCALE:GREGORIAN
METHOD:PUBLISH
X-WR-CALNAME:Franken VIBES
X-ORIGINAL-URL:https://frankenvibes.de
X-WR-CALDESC:Veranstaltungen für Franken VIBES
REFRESH-INTERVAL;VALUE=DURATION:PT1H
X-Robots-Tag:noindex
X-PUBLISHED-TTL:PT1H
BEGIN:VTIMEZONE
TZID:Europe/Berlin
BEGIN:DAYLIGHT
TZOFFSETFROM:+0100
TZOFFSETTO:+0200
TZNAME:CEST
DTSTART:20250330T010000
END:DAYLIGHT
BEGIN:STANDARD
TZOFFSETFROM:+0200
TZOFFSETTO:+0100
TZNAME:CET
DTSTART:20251026T010000
END:STANDARD
BEGIN:DAYLIGHT
TZOFFSETFROM:+0100
TZOFFSETTO:+0200
TZNAME:CEST
DTSTART:20260329T010000
END:DAYLIGHT
BEGIN:STANDARD
TZOFFSETFROM:+0200
TZOFFSETTO:+0100
TZNAME:CET
DTSTART:20261025T010000
END:STANDARD
BEGIN:DAYLIGHT
TZOFFSETFROM:+0100
TZOFFSETTO:+0200
TZNAME:CEST
DTSTART:20270328T010000
END:DAYLIGHT
BEGIN:STANDARD
TZOFFSETFROM:+0200
TZOFFSETTO:+0100
TZNAME:CET
DTSTART:20271031T010000
END:STANDARD
BEGIN:DAYLIGHT
TZOFFSETFROM:+0100
TZOFFSETTO:+0200
TZNAME:CEST
DTSTART:20280326T010000
END:DAYLIGHT
BEGIN:STANDARD
TZOFFSETFROM:+0200
TZOFFSETTO:+0100
TZNAME:CET
DTSTART:20281029T010000
END:STANDARD
END:VTIMEZONE
BEGIN:VEVENT
DTSTART;TZID=Europe/Berlin:20260327T200000
DTEND;TZID=Europe/Berlin:20270426T200000
DTSTAMP:20260420T160557
CREATED:20250426T151540Z
LAST-MODIFIED:20250426T151540Z
UID:10000514-1774641600-1808769600@frankenvibes.de
SUMMARY:Thorsten Havener
DESCRIPTION:ALLES KOPFSACHE?\ngeheimnisvoll\nfaszinierend\ninspirierend\n\nSeit über 20 Jahren verblüfft Thorsten Havener mit seinen mentalen Fähigkeiten seine Zuschauer im TV und auf den Bühnen dieser Welt. Hunderttausende verfolgten bereits weltweit staunend sein Schaffen und blieben rätselnd zurück.\n\nALLES KOPFSACHE ? – Das neue Programm!\n\nCharmant entführt Thorsten Havener sie in eine Welt\, in der mehr möglich ist als sie denken. Diese Reise führt seine Gäste tief in ihr Innerstes\, zu ihrer Intuition und an den Rand ihrer Vorstellungskraft. So erlangen sie völlig neue Einblicke in die Kraft ihrer Gedanken und deren Auswirkung auf ihre Wirklichkeit.\n\nRealität\, Intuition\, Zufall und wirklich alles Kopfsache ?\n\nBildquelle: Thorsten Havener
URL:https://frankenvibes.de/event/thorsten-havener-2/
LOCATION:Gutmann am Dutzendteich\, Bayernstraße 150\, Nürnberg\, 90478\, Germany
CATEGORIES:Kabarett & Comedy
ATTACH;FMTTYPE=image/png:https://frankenvibes.de/wp-content/uploads/2025/04/image-e1745680348185.png
END:VEVENT
BEGIN:VEVENT
DTSTART;TZID=Europe/Berlin:20260407T193000
DTEND;TZID=Europe/Berlin:20261013T170000
DTSTAMP:20260420T160557
CREATED:20250930T145232Z
LAST-MODIFIED:20260131T110646Z
UID:10001436-1775590200-1791910800@frankenvibes.de
SUMMARY:THE WORLD OF HANS ZIMMER
DESCRIPTION:The Immersive Symphony \n\n\n\n\nTHE ORIGINAL presented & curated by HANS ZIMMER\nMit der Konzertreihe „The World of Hans Zimmer“ hat der mehrfache Academy Award® – und Grammy-Gewinner Hans Zimmer Live-Erlebnisse geschaffen\, die Fans weltweit auf individuelle und beeindruckende Weise durch seine Filmmusik führen. Als musikalischer Leiter und Kurator zeichnet der Meister persönlich maßgeblich für die „World of Hans Zimmer“- Produktionen verantwortlich\, auch wenn er dabei nicht selbst auf der Bühne steht. \n„The Immersive Symphony“ ist der jüngste Neuzugang der international gefeierten Konzertreihe. Nach der umjubelten Weltpremiere im Januar 2025 im Metronom Theater Oberhausen geht dieses neue Show-Juwel im Frühjahr 2026 endlich auf Tournee. \nHerausragende Solistinnen und Solisten aus Zimmers Talentschmiede sowie das „World of Hans Zimmer Orchestra“ erwecken Zimmers weltberühmte Melodien aus Filmen wie „Dune“\, „Inception“\, „Der König der Löwen“ und „Gladiator“ zum Leben und sorgen für zahlreiche Gänsehautmomente. Fesselndes Lichtdesign\, atemberaubende visuelle Effekte und der unvergleichlich-originale Hans Zimmer-Klangteppich ziehen die Zuschauer in ihren Bann und lassen sie zu einem integralen Teil dieser magischen Konzert-Atmosphäre werden. \nFans von Hans Zimmers Musik haben im Frühjahr 2026 die einmalige Gelegenheit\, in diese facettenreiche und magische Welt einzutauchen und das musikalische Genie des legendären Komponisten wie nie zuvor zu erleben. \nSeit die erste Konzerttournee „The World of Hans Zimmer – A Symphonic Celebration“ im Jahr 2018 in Deutschland Premiere feierte\, entstand daraus bis heute die international gefeierte Konzertreihe „The World of Hans Zimmer“\, die bis heute 1.2 Millionen Zuschauer zählt. \nDas brandneue Album „The World of Hans Zimmer – Part II ‚A New Dimension‘“ erschien Ende Januar 2025 über Sony Music Classical. \nBildquelle: Argo Konzerte 
URL:https://frankenvibes.de/event/the-world-of-hans-zimmer-2/
LOCATION:Kia Metropol Arena Nürnberg\, Dr. -Ingeborg-Bausenwein-Straße 1\,\, Nürnberg\, 90431\, Germany
CATEGORIES:Konzert,Rock & Pop
ATTACH;FMTTYPE=image/jpeg:https://frankenvibes.de/wp-content/uploads/2025/09/The-World-of-hans-zimmer.jpeg
END:VEVENT
BEGIN:VEVENT
DTSTART;TZID=Europe/Berlin:20260420T193000
DTEND;TZID=Europe/Berlin:20260420T193000
DTSTAMP:20260420T160557
CREATED:20260330T084506Z
LAST-MODIFIED:20260330T084511Z
UID:10003095-1776713400-1776713400@frankenvibes.de
SUMMARY:Karneval des Glücks
DESCRIPTION:Musikalische Lesung\nDie tierischen Reize dieser „zoologischen Fantasie“ haben Roger Willemsen zu einer scharfzüngigen und mitunter deftigen Reise in die Tierwelt animiert. Mit sprachlichem Witz\, Freude am Pittoresken und spöttischem Blick auf das Hier und Jetzt führt Willemsen den Zuhörer schwungvoll durch den Klassiker von Saint-Saëns.\n(Eichborn AG)\n„Katja Riemann … rezitierte gestikulierend\, auf der Bühne umherlaufend. Sie berlinerte\, sprach norddeutsch und mit italienischem Akzent. Mit tiefer\, plötzlich zu piepsender Stimme wechselnd\, trug sie humorvoll\, teils spöttisch\, den mit viel sprachlichen Witz versehenen pittoresken Text vor. Das Ensemble intonierte dazwischen Saint-Saëns geniale Musik. Temperamentvoll\, gefährlich hörte man den Löwen aus den beiden Flügeln brüllen. Der Violine fiel es zu\, fröhliches Vogelgezwitscher zu imitieren. Das Ensemble begleitete hingebungsvoll und spielfreudig auf höchstem Niveau.“\nFLZ Neustadt | Rüdiger Pfeiffer | 14. August 2023 \nFoto: Theater Ansbach
URL:https://frankenvibes.de/event/karneval-des-gluecks/
LOCATION:Theater Ansbach\, Promenade 29\, Ansbach\, 91522\, Germany
CATEGORIES:Lesung,Literarisch-Musikalisch
ATTACH;FMTTYPE=image/jpeg:https://frankenvibes.de/wp-content/uploads/2026/03/Karneval_des_Gluecks3_copyright_MKnickriem-2048x1366-1-768x614-1.jpg
END:VEVENT
BEGIN:VEVENT
DTSTART;TZID=Europe/Berlin:20260420T200000
DTEND;TZID=Europe/Berlin:20260420T200000
DTSTAMP:20260420T160557
CREATED:20260330T084822Z
LAST-MODIFIED:20260330T084832Z
UID:10002997-1776715200-1776715200@frankenvibes.de
SUMMARY:LACAZETTE
DESCRIPTION:ALLE GEGEN LUCKY Tour 2026\n\nDrei Buchstaben\, über 200 Millionen Streams\, Hits in den Top 10 und ein Debütalbum auf Platz 5 – Lacazette ist der meistgehypte Rapper Deutschlands. 2025 bringt er seinen unverkennbaren Sound endlich auf die Bühne. \nNachdem er 2024 mit LID ein Ausrufezeichen setzte\, folgt nun der nächste Meilenstein: seine erste große Tour. Live\, laut und kompromisslos – Lacazette liefert die Hits\, die Fans die Energie. \nWer dabei sein will\, sollte schnell sein. Die Shows versprechen unvergessliche Momente – und das hier ist erst der Anfang. \n\n\nFoto: Concertbüro Franken
URL:https://frankenvibes.de/event/lacazette/
LOCATION:Nürnberg  Löwensaal\, Schmausenbuckstraße 166\, Nürnberg\, 90480\, Germany
CATEGORIES:Rap
ATTACH;FMTTYPE=image/jpeg:https://frankenvibes.de/wp-content/uploads/2026/03/Lacazette_900.jpg
END:VEVENT
BEGIN:VEVENT
DTSTART;TZID=Europe/Berlin:20260420T203000
DTEND;TZID=Europe/Berlin:20260420T203000
DTSTAMP:20260420T160557
CREATED:20260320T105106Z
LAST-MODIFIED:20260320T105112Z
UID:10002954-1776717000-1776717000@frankenvibes.de
SUMMARY:Love Ghost (USA)
DESCRIPTION:Love Ghost (USA) – Emo trifft Alternative Rock \nMitreißende Live-Shows\, emotionale Texte und ein Sound zwischen Emo\, Grunge\, Trap und Nu-Metal: Love Ghostaus Los Angeles zählen zu den spannendsten Acts der neuen Alternative-Generation. \nTouren in Tokio\, London\, Dublin und Mexiko-Stadt\, gefeatured im Rolling Stone\, Clash\, Lyrical Lemonade & Co. – und jetzt live bei uns! \nFrontmann Finnegan Bell bringt rohe Energie auf die Bühne und verbindet mit seiner Band poetische Tiefgründigkeit mit explosivem Sound. \nFür Fans von Linkin Park\, Juice WRLD\, Nirvana und allem dazwischen. \nwww.loveghost.com \nBildquelle: luis tierrafaria
URL:https://frankenvibes.de/event/love-ghost-usa/
LOCATION:Live-Club Bamberg\, Obere Sandstraße 7\, Bamberg\, 96049
CATEGORIES:Konzert
ATTACH;FMTTYPE=image/jpeg:https://frankenvibes.de/wp-content/uploads/2026/03/photo_by_luis_tierrafaria_0-scaled.jpg
END:VEVENT
BEGIN:VEVENT
DTSTART;TZID=Europe/Berlin:20260420T220000
DTEND;TZID=Europe/Berlin:20260420T220000
DTSTAMP:20260420T160557
CREATED:20260320T105151Z
LAST-MODIFIED:20260320T105157Z
UID:10002955-1776722400-1776722400@frankenvibes.de
SUMMARY:Montagsschwof - DJ Hannes
DESCRIPTION:Partyklassiker mit Rock\, Pop und Charts. Alle Getränke zum halben Preis.
URL:https://frankenvibes.de/event/montagsschwof-dj-hannes/
CATEGORIES:Party
ATTACH;FMTTYPE=image/jpeg:https://frankenvibes.de/wp-content/uploads/2026/03/2024_02_12_montagsschwof_-_kopie_-_kopie_-_kopie_0-6-1-scaled.jpg
END:VEVENT
END:VCALENDAR