BEGIN:VCALENDAR
VERSION:2.0
PRODID:-//Franken VIBES - ECPv6.15.18//NONSGML v1.0//EN
CALSCALE:GREGORIAN
METHOD:PUBLISH
X-WR-CALNAME:Franken VIBES
X-ORIGINAL-URL:https://frankenvibes.de
X-WR-CALDESC:Veranstaltungen für Franken VIBES
REFRESH-INTERVAL;VALUE=DURATION:PT1H
X-Robots-Tag:noindex
X-PUBLISHED-TTL:PT1H
BEGIN:VTIMEZONE
TZID:Europe/Berlin
BEGIN:DAYLIGHT
TZOFFSETFROM:+0100
TZOFFSETTO:+0200
TZNAME:CEST
DTSTART:20250330T010000
END:DAYLIGHT
BEGIN:STANDARD
TZOFFSETFROM:+0200
TZOFFSETTO:+0100
TZNAME:CET
DTSTART:20251026T010000
END:STANDARD
BEGIN:DAYLIGHT
TZOFFSETFROM:+0100
TZOFFSETTO:+0200
TZNAME:CEST
DTSTART:20260329T010000
END:DAYLIGHT
BEGIN:STANDARD
TZOFFSETFROM:+0200
TZOFFSETTO:+0100
TZNAME:CET
DTSTART:20261025T010000
END:STANDARD
BEGIN:DAYLIGHT
TZOFFSETFROM:+0100
TZOFFSETTO:+0200
TZNAME:CEST
DTSTART:20270328T010000
END:DAYLIGHT
BEGIN:STANDARD
TZOFFSETFROM:+0200
TZOFFSETTO:+0100
TZNAME:CET
DTSTART:20271031T010000
END:STANDARD
BEGIN:DAYLIGHT
TZOFFSETFROM:+0100
TZOFFSETTO:+0200
TZNAME:CEST
DTSTART:20280326T010000
END:DAYLIGHT
BEGIN:STANDARD
TZOFFSETFROM:+0200
TZOFFSETTO:+0100
TZNAME:CET
DTSTART:20281029T010000
END:STANDARD
END:VTIMEZONE
BEGIN:VEVENT
DTSTART;TZID=Europe/Berlin:20260327T200000
DTEND;TZID=Europe/Berlin:20270426T200000
DTSTAMP:20260421T020008
CREATED:20250426T151540Z
LAST-MODIFIED:20250426T151540Z
UID:10000514-1774641600-1808769600@frankenvibes.de
SUMMARY:Thorsten Havener
DESCRIPTION:ALLES KOPFSACHE?\ngeheimnisvoll\nfaszinierend\ninspirierend\n\nSeit über 20 Jahren verblüfft Thorsten Havener mit seinen mentalen Fähigkeiten seine Zuschauer im TV und auf den Bühnen dieser Welt. Hunderttausende verfolgten bereits weltweit staunend sein Schaffen und blieben rätselnd zurück.\n\nALLES KOPFSACHE ? – Das neue Programm!\n\nCharmant entführt Thorsten Havener sie in eine Welt\, in der mehr möglich ist als sie denken. Diese Reise führt seine Gäste tief in ihr Innerstes\, zu ihrer Intuition und an den Rand ihrer Vorstellungskraft. So erlangen sie völlig neue Einblicke in die Kraft ihrer Gedanken und deren Auswirkung auf ihre Wirklichkeit.\n\nRealität\, Intuition\, Zufall und wirklich alles Kopfsache ?\n\nBildquelle: Thorsten Havener
URL:https://frankenvibes.de/event/thorsten-havener-2/
LOCATION:Gutmann am Dutzendteich\, Bayernstraße 150\, Nürnberg\, 90478\, Germany
CATEGORIES:Kabarett & Comedy
ATTACH;FMTTYPE=image/png:https://frankenvibes.de/wp-content/uploads/2025/04/image-e1745680348185.png
END:VEVENT
BEGIN:VEVENT
DTSTART;TZID=Europe/Berlin:20260407T193000
DTEND;TZID=Europe/Berlin:20261013T170000
DTSTAMP:20260421T020008
CREATED:20250930T145232Z
LAST-MODIFIED:20260131T110646Z
UID:10001436-1775590200-1791910800@frankenvibes.de
SUMMARY:THE WORLD OF HANS ZIMMER
DESCRIPTION:The Immersive Symphony \n\n\n\n\nTHE ORIGINAL presented & curated by HANS ZIMMER\nMit der Konzertreihe „The World of Hans Zimmer“ hat der mehrfache Academy Award® – und Grammy-Gewinner Hans Zimmer Live-Erlebnisse geschaffen\, die Fans weltweit auf individuelle und beeindruckende Weise durch seine Filmmusik führen. Als musikalischer Leiter und Kurator zeichnet der Meister persönlich maßgeblich für die „World of Hans Zimmer“- Produktionen verantwortlich\, auch wenn er dabei nicht selbst auf der Bühne steht. \n„The Immersive Symphony“ ist der jüngste Neuzugang der international gefeierten Konzertreihe. Nach der umjubelten Weltpremiere im Januar 2025 im Metronom Theater Oberhausen geht dieses neue Show-Juwel im Frühjahr 2026 endlich auf Tournee. \nHerausragende Solistinnen und Solisten aus Zimmers Talentschmiede sowie das „World of Hans Zimmer Orchestra“ erwecken Zimmers weltberühmte Melodien aus Filmen wie „Dune“\, „Inception“\, „Der König der Löwen“ und „Gladiator“ zum Leben und sorgen für zahlreiche Gänsehautmomente. Fesselndes Lichtdesign\, atemberaubende visuelle Effekte und der unvergleichlich-originale Hans Zimmer-Klangteppich ziehen die Zuschauer in ihren Bann und lassen sie zu einem integralen Teil dieser magischen Konzert-Atmosphäre werden. \nFans von Hans Zimmers Musik haben im Frühjahr 2026 die einmalige Gelegenheit\, in diese facettenreiche und magische Welt einzutauchen und das musikalische Genie des legendären Komponisten wie nie zuvor zu erleben. \nSeit die erste Konzerttournee „The World of Hans Zimmer – A Symphonic Celebration“ im Jahr 2018 in Deutschland Premiere feierte\, entstand daraus bis heute die international gefeierte Konzertreihe „The World of Hans Zimmer“\, die bis heute 1.2 Millionen Zuschauer zählt. \nDas brandneue Album „The World of Hans Zimmer – Part II ‚A New Dimension‘“ erschien Ende Januar 2025 über Sony Music Classical. \nBildquelle: Argo Konzerte 
URL:https://frankenvibes.de/event/the-world-of-hans-zimmer-2/
LOCATION:Kia Metropol Arena Nürnberg\, Dr. -Ingeborg-Bausenwein-Straße 1\,\, Nürnberg\, 90431\, Germany
CATEGORIES:Konzert,Rock & Pop
ATTACH;FMTTYPE=image/jpeg:https://frankenvibes.de/wp-content/uploads/2025/09/The-World-of-hans-zimmer.jpeg
END:VEVENT
BEGIN:VEVENT
DTSTART;TZID=Europe/Berlin:20260421T160000
DTEND;TZID=Europe/Berlin:20260421T170000
DTSTAMP:20260421T020008
CREATED:20260206T101054Z
LAST-MODIFIED:20260206T101139Z
UID:10002602-1776787200-1776790800@frankenvibes.de
SUMMARY:BamLit: Thomas Hussung - DAS KLEINE BÖSE BUCH
DESCRIPTION:Mit kniffligen Rätseln und schaurig-lustigen Geschichten: Der Illustrator Thomas Hussung präsentiert die Bestsellerreihe „Das kleine Böse Buch“ im Ertl-Zentrum. Ob das kleine böse Buch wirklich so böse ist\, erfährst du bei dieser interaktiven Lesung mit Gruselfaktor! \nThomas Hussung – Illustrator \nGeboren wurde Thomas Hussung 1990 in Baden-Württemberg\, wo er auch die Schulbank drückte. Von 2011 bis 2014 studierte er in Hamburg Kommunikationsdesign und arbeitet inzwischen als selbstständiger Illustrator und Autor. Am liebsten zeichnet er Monster\, Gespenster und andere Fabelwesen. \nZielgruppe: ab 8 Jahren \nBildquelle: Pressefoto
URL:https://frankenvibes.de/event/bamlit-thomas-hussung-das-kleine-boese-buch/
LOCATION:ERTL-Zentrum Hallstadt\, ERTL Shopping\, Emil-Kemmer-Straße 19\, Hallstadt\, 96103\, Germany
CATEGORIES:Kinder,Kinder- & Jugendkultur,Kinderstück,Literatur
ATTACH;FMTTYPE=image/jpeg:https://frankenvibes.de/wp-content/uploads/2026/02/HUSSUN1_l-2.jpg
END:VEVENT
BEGIN:VEVENT
DTSTART;TZID=Europe/Berlin:20260421T200000
DTEND;TZID=Europe/Berlin:20260421T200000
DTSTAMP:20260421T020008
CREATED:20260313T091913Z
LAST-MODIFIED:20260313T092216Z
UID:10002893-1776801600-1776801600@frankenvibes.de
SUMMARY:JOSEF HADER: „Hader on Ice“
DESCRIPTION:„Immer is irgendwas. Entweder die Fiaß schlafen mir ein. Oder sie jucken. Dann krieg i wieder ka Luft\, wenn i schneller geh. Oder i hab an Schweißausbruch. Dann friert mich wieder. Das Essen schmeckt mir nimmer\, der Sex ist fad\, die Hosen sind z’eng. Was is das bitte? – Des muss alles dieser Klimawandel sein\, oder? Temperaturen hat’s im Sommer wie in den Tropen! Dadurch gibt’s auf einmal diese riesigen Insekten! Die hat’s doch früher net geb’n! Wenn die dich stechen\, kriegst einen Dippel\, der geht monatelang net weg! Wahrscheinlich san die alle gentechnisch verändert. Und die Pflanzen! Die werd’n jetzt auch schon deppert. Die spinnen\, die Pflanzen! Die wachsen jetzt alles zua! Seit i nimmer aus’n Haus geh. Meine Theorie is\, die Pflanzen woll’n die Herrschaft über den Planeten zurück. \nDie sind alle miteinander unterirdisch verbunden über ihre Wurzeln. Weltweit! Die Pflanzen hab’n einen geheimen Plan. Sie wollen die totale Zerstörung der abendländischen Kultur und des österreichischen Volks-Rock’n’ Roll. Das soll alles ersetzt werden durch äh Photosynthese.“ (REGIE: Petra Dobetsberger) Je abstoßender das Publikum die kaputte Figur Hader finden muss\, desto mehr bewundert es den Autor Hader für seinen einzigartigen melancholischen Zynismus und den Performer Hader für die Konsequenz\, mit der seine Figur im Laufe des zweiteiligen Abends immer mehr verfällt. … Vielleicht weil es viel um den Tod geht\, wirkt dieses perfekt gebaute\, mit schludriger Musikalität dargebrachte Stück wie ein von Reife durchdrungenes Alterswerk. (Martin Pesl\, DEUTSCHLANDFUNK KULTUR) \nBildquelle: Comödie\, Fürth
URL:https://frankenvibes.de/event/josef-hader-hader-on-ice/
LOCATION:Stadthalle Fürth\, Rosenstraße 50\, Fürth\, 90762\, Germany
CATEGORIES:Konzert,Liedermacher
ATTACH;FMTTYPE=image/png:https://frankenvibes.de/wp-content/uploads/2026/03/bild-13.png
END:VEVENT
BEGIN:VEVENT
DTSTART;TZID=Europe/Berlin:20260421T200000
DTEND;TZID=Europe/Berlin:20260421T200000
DTSTAMP:20260421T020008
CREATED:20260330T085220Z
LAST-MODIFIED:20260330T085226Z
UID:10003054-1776801600-1776801600@frankenvibes.de
SUMMARY:NILS WÜLKER QUARTET: ZUVERSICHT – LIVE
DESCRIPTION:ZUVERSICHT – LIVE\nZuversicht ist\, wenn wir Hoffnung so aktiv erleben\, dass wir gegen alle Widrigkeiten in die Zukunft vertrauen. Das jetzt erscheinende Album gleichen Namens\, das fünfzehnte des „klanggenialen Trompeters und Ausnahmekomponisten“ Nils Wülker und das erste mit einem deutschen Titel\, strahlt diese Lebensenergie aus – in vielfacher\, wunderbarer Hinsicht. Die elf Eigenkompositionen\, eingespielt im Quartett\, schließen einen Kreis und eröffnen neue Horizonte\, sie drängen den Leader bewusst aus seiner Komfortzone in eine schöne\, neue Klangwelt. Zum ersten Mal seit seinem Debüt von 2002 – und zahlreiche Charterfolge später – hat der ECHO-Gewinner mit einer internationalen Star-Besetzung aufgenommen: am Klavier ist Aaron Parks\, am Kontrabass Linda May Han Oh\, am Schlagzeug Greg Hutchinson. Wülkers Personalsound ist eindringlich und unverkennbar\, das Ergebnis dennoch überraschend. Gemeinsam haben die Vier in nur dreieinhalb Tagen voll improvisatorischer\, gemeinschaftlicher Schaffenskraft in den besonders auch durch David Bowie\, U2 und Depeche Mode legendären Hansa Studios in Berlin ein Album geschaffen\, das gleichermaßen zeitgemäß wie richtungsweisend ist – und in seinen starken Melodien und dem sagenhaften Interplay voll Zuversicht. \nNach der Entscheidung\, „Zuversicht“ in der klassischen Jazz-Besetzung mit Trompete\, Klavier\, Kontrabass und Schlagzeug aufzunehmen\, folgte Nils Wülker\, wie er selbst sagt\, seinem Bauchgefühl\, was die Menschen dahinter angeht – Musiker*innen\, deren Arbeit er schätzt mag und bei denen er das Gefühl hatte\, dass sie den Zugang zu seiner Musik finden werden und sich trotzdem noch einbringen. Der 47-jährige wollte bei den Aufnahmen bewusst mehr Raum für Interaktion und Spontanität im Studio schaffen\, besonders nachdem seine letzten Alben musikalisch durchstrukturiert waren – ob nun durch die Orchesterarrangements für „Continuum“\, die akribischen Klangwelt-Tüfteleien seines Duos mit Arne Jansen für „Closer“ oder die wochenlange Synthie-/Electro-Studioarbeit für „GO“. „Mit Aaron\, Linda und Greg habe ich mir eine wunderbare Band zusammengestellt\, aber auch alles auf eine Karte gesetzt\,“ sagt Wülker. „Schließlich haben wir uns im Studio zum ersten Mal richtig getroffen\, noch nie vorher zusammengespielt und hatten dann dreieinhalb Tage\, um ein ganzes Album aufzunehmen.“ \nDas Resultat spricht für sich: „Zuversicht“ ist ein sehr organisches\, in jeder Note lebendiges Album\, dem die Kompositionen des Leaders in Kombination mit der kreativen Zusammenarbeit der drei weiteren Bandmitglieder – selbst zu Zweidrittel Grammy-Gewinner und auf unzähligen stilprägenden Alben von Wynton Marsalis über Pat Metheny bis Joshua Redman zu hören – enorme Größe und Eleganz verschaffen\, eine immer wieder überwältigende Energie. Von der dynamischen Spannung des Openers „All Hands On Deck“ über berührende Balladen wie „Time Will Tell“ oder „Alpenglow“ oder die funky „Forces At Work“ bis zum eingängigen „Second Nature“\, bei dem Flügelhorn und Bass anfangs unisono spielen\, sich auf eigenen Wegen unterstützen\, um am Ende melodisch wieder zusammenzukommen\, spannt sich hier ein klarer\, immer wieder erstaunlicher Bogen. \nAuch live wird die Besetzung des Albums zu erleben sein\, wird Nils Wülker mit Linda May Han Oh\, mit Greg Hutchinson und anfangs\, aufgrund von Termingründen\, mit keinem Geringeren als Omer Klein am Piano auf Tour gehen. Gute Gelegenheiten\, Nils Wülkers spontan entwickelte neue Stücke und die traditionsreiche\, moderne Klangwelt dieser Musik unmittelbar zu erleben. „Ich habe nicht die Erwartung\, dass Musik eine direkte messbare Veränderung herbeiführt“\, meint Nils Wülker. „Aber immer das Vertrauen\, etwas Positives rauszugeben\, das sich irgendwo verfängt\, räsoniert\, manifestiert\, und dass das hoffentlich sinnvoll und sinnstiftend ist.“ \nFoto: E-Werk Erlangen
URL:https://frankenvibes.de/event/nils-wuelker-quartet-zuversicht-live/
LOCATION:Redoutensaal Erlangen\, Südliche Stadtmauerstr. 1\, Erlangen\, 91054
CATEGORIES:Konzert
ATTACH;FMTTYPE=image/png:https://frankenvibes.de/wp-content/uploads/2026/03/Kopie_von_Design_ohne_Titel__10_.png
END:VEVENT
END:VCALENDAR