BEGIN:VCALENDAR
VERSION:2.0
PRODID:-//Franken VIBES - ECPv6.15.18//NONSGML v1.0//EN
CALSCALE:GREGORIAN
METHOD:PUBLISH
X-WR-CALNAME:Franken VIBES
X-ORIGINAL-URL:https://frankenvibes.de
X-WR-CALDESC:Veranstaltungen für Franken VIBES
REFRESH-INTERVAL;VALUE=DURATION:PT1H
X-Robots-Tag:noindex
X-PUBLISHED-TTL:PT1H
BEGIN:VTIMEZONE
TZID:Europe/Berlin
BEGIN:DAYLIGHT
TZOFFSETFROM:+0100
TZOFFSETTO:+0200
TZNAME:CEST
DTSTART:20250330T010000
END:DAYLIGHT
BEGIN:STANDARD
TZOFFSETFROM:+0200
TZOFFSETTO:+0100
TZNAME:CET
DTSTART:20251026T010000
END:STANDARD
BEGIN:DAYLIGHT
TZOFFSETFROM:+0100
TZOFFSETTO:+0200
TZNAME:CEST
DTSTART:20260329T010000
END:DAYLIGHT
BEGIN:STANDARD
TZOFFSETFROM:+0200
TZOFFSETTO:+0100
TZNAME:CET
DTSTART:20261025T010000
END:STANDARD
BEGIN:DAYLIGHT
TZOFFSETFROM:+0100
TZOFFSETTO:+0200
TZNAME:CEST
DTSTART:20270328T010000
END:DAYLIGHT
BEGIN:STANDARD
TZOFFSETFROM:+0200
TZOFFSETTO:+0100
TZNAME:CET
DTSTART:20271031T010000
END:STANDARD
BEGIN:DAYLIGHT
TZOFFSETFROM:+0100
TZOFFSETTO:+0200
TZNAME:CEST
DTSTART:20280326T010000
END:DAYLIGHT
BEGIN:STANDARD
TZOFFSETFROM:+0200
TZOFFSETTO:+0100
TZNAME:CET
DTSTART:20281029T010000
END:STANDARD
END:VTIMEZONE
BEGIN:VEVENT
DTSTART;TZID=Europe/Berlin:20260327T200000
DTEND;TZID=Europe/Berlin:20270426T200000
DTSTAMP:20260422T021033
CREATED:20250426T151540Z
LAST-MODIFIED:20250426T151540Z
UID:10000514-1774641600-1808769600@frankenvibes.de
SUMMARY:Thorsten Havener
DESCRIPTION:ALLES KOPFSACHE?\ngeheimnisvoll\nfaszinierend\ninspirierend\n\nSeit über 20 Jahren verblüfft Thorsten Havener mit seinen mentalen Fähigkeiten seine Zuschauer im TV und auf den Bühnen dieser Welt. Hunderttausende verfolgten bereits weltweit staunend sein Schaffen und blieben rätselnd zurück.\n\nALLES KOPFSACHE ? – Das neue Programm!\n\nCharmant entführt Thorsten Havener sie in eine Welt\, in der mehr möglich ist als sie denken. Diese Reise führt seine Gäste tief in ihr Innerstes\, zu ihrer Intuition und an den Rand ihrer Vorstellungskraft. So erlangen sie völlig neue Einblicke in die Kraft ihrer Gedanken und deren Auswirkung auf ihre Wirklichkeit.\n\nRealität\, Intuition\, Zufall und wirklich alles Kopfsache ?\n\nBildquelle: Thorsten Havener
URL:https://frankenvibes.de/event/thorsten-havener-2/
LOCATION:Gutmann am Dutzendteich\, Bayernstraße 150\, Nürnberg\, 90478\, Germany
CATEGORIES:Kabarett & Comedy
ATTACH;FMTTYPE=image/png:https://frankenvibes.de/wp-content/uploads/2025/04/image-e1745680348185.png
END:VEVENT
BEGIN:VEVENT
DTSTART;TZID=Europe/Berlin:20260407T193000
DTEND;TZID=Europe/Berlin:20261013T170000
DTSTAMP:20260422T021033
CREATED:20250930T145232Z
LAST-MODIFIED:20260131T110646Z
UID:10001436-1775590200-1791910800@frankenvibes.de
SUMMARY:THE WORLD OF HANS ZIMMER
DESCRIPTION:The Immersive Symphony \n\n\n\n\nTHE ORIGINAL presented & curated by HANS ZIMMER\nMit der Konzertreihe „The World of Hans Zimmer“ hat der mehrfache Academy Award® – und Grammy-Gewinner Hans Zimmer Live-Erlebnisse geschaffen\, die Fans weltweit auf individuelle und beeindruckende Weise durch seine Filmmusik führen. Als musikalischer Leiter und Kurator zeichnet der Meister persönlich maßgeblich für die „World of Hans Zimmer“- Produktionen verantwortlich\, auch wenn er dabei nicht selbst auf der Bühne steht. \n„The Immersive Symphony“ ist der jüngste Neuzugang der international gefeierten Konzertreihe. Nach der umjubelten Weltpremiere im Januar 2025 im Metronom Theater Oberhausen geht dieses neue Show-Juwel im Frühjahr 2026 endlich auf Tournee. \nHerausragende Solistinnen und Solisten aus Zimmers Talentschmiede sowie das „World of Hans Zimmer Orchestra“ erwecken Zimmers weltberühmte Melodien aus Filmen wie „Dune“\, „Inception“\, „Der König der Löwen“ und „Gladiator“ zum Leben und sorgen für zahlreiche Gänsehautmomente. Fesselndes Lichtdesign\, atemberaubende visuelle Effekte und der unvergleichlich-originale Hans Zimmer-Klangteppich ziehen die Zuschauer in ihren Bann und lassen sie zu einem integralen Teil dieser magischen Konzert-Atmosphäre werden. \nFans von Hans Zimmers Musik haben im Frühjahr 2026 die einmalige Gelegenheit\, in diese facettenreiche und magische Welt einzutauchen und das musikalische Genie des legendären Komponisten wie nie zuvor zu erleben. \nSeit die erste Konzerttournee „The World of Hans Zimmer – A Symphonic Celebration“ im Jahr 2018 in Deutschland Premiere feierte\, entstand daraus bis heute die international gefeierte Konzertreihe „The World of Hans Zimmer“\, die bis heute 1.2 Millionen Zuschauer zählt. \nDas brandneue Album „The World of Hans Zimmer – Part II ‚A New Dimension‘“ erschien Ende Januar 2025 über Sony Music Classical. \nBildquelle: Argo Konzerte 
URL:https://frankenvibes.de/event/the-world-of-hans-zimmer-2/
LOCATION:Kia Metropol Arena Nürnberg\, Dr. -Ingeborg-Bausenwein-Straße 1\,\, Nürnberg\, 90431\, Germany
CATEGORIES:Konzert,Rock & Pop
ATTACH;FMTTYPE=image/jpeg:https://frankenvibes.de/wp-content/uploads/2025/09/The-World-of-hans-zimmer.jpeg
END:VEVENT
BEGIN:VEVENT
DTSTART;TZID=Europe/Berlin:20260422T163000
DTEND;TZID=Europe/Berlin:20260422T170000
DTSTAMP:20260422T021033
CREATED:20260206T101313Z
LAST-MODIFIED:20260206T101438Z
UID:10002603-1776875400-1776877200@frankenvibes.de
SUMMARY:BamLit: Margit Auer - DIE SCHULE DER MAGISCHEN TIERE
DESCRIPTION:Die meistverkaufte deutsche Kinderbuchserie kommt nach Bamberg! Nachdem unsere schöne Domstadt bereits Schauplatz des zweiten Kinofilms der Erfolgsreihe sein durfte\, freuen wir uns nun\, Bestsellerautorin Margit Auer bei uns begrüßen zu dürfen. Sie präsentiert „Die Schule der magischen Tiere – Land unter!“ Gemeinsam mit den Kindern und Tieren der Geschichte erleben die Fans fantasievolle Abenteuer\, lösen knifflige Alltagsprobleme und wachsen gemeinsam über sich hinaus. \nMargit Auer \nMargit Auer ist eine der beliebtesten und erfolgreichsten Kinderbuchautorinnen Deutschlands. Mehr als 40 Bücher hat sie schon geschrieben\, der internationale Durchbruch gelang ihr mit der Bestsellerreihe „Die Schule der magischen Tiere“. Die Abenteuer wurden in mehr als 25 Sprachen übersetzt und auf ihren Lesereisen düst Margit Auer wie Mr. Morrison um die ganze Welt. Inzwischen ist „Die Schule der magischen Tiere“ die meistverkaufte Kinderbuchreihe Deutschlands und auch die Filme begeistern ein Millionenpublikum. \nBildquelle: Pressefoto
URL:https://frankenvibes.de/event/bamlit-margit-auer-die-schule-der-magischen-tiere/
LOCATION:Kulturboden Hallstadt\, An der Marktscheune 1\, Hallstadt\, 96103\, Germany
CATEGORIES:Kinder,Kinder- & Jugendkultur,Kinderstück,Lesung,Literatur
ATTACH;FMTTYPE=image/jpeg:https://frankenvibes.de/wp-content/uploads/2026/02/CARUR1_l-2-rotated.jpg
END:VEVENT
BEGIN:VEVENT
DTSTART;TZID=Europe/Berlin:20260422T193000
DTEND;TZID=Europe/Berlin:20260422T193000
DTSTAMP:20260422T021033
CREATED:20250930T145726Z
LAST-MODIFIED:20260131T111834Z
UID:10001438-1776886200-1776886200@frankenvibes.de
SUMMARY:ABBAMANIA THE SHOW
DESCRIPTION:Nach dem spektakulären 20-jährigen Bühnenjubiläum hat ABBAMANIA THE SHOW auch 2026 wieder einen besonderen Grund zum Feiern: Seit nunmehr 50 Jahren erobert „Dancing Queen“ die Herzen der ABBA-Fans! Anlass genug für die größte ABBA-Tribute-Show der Welt\, dieses Jubiläum gebührend zu zelebrieren. Mit einer einzigartigen Hommage an die schwedische Kultband bringt ABBAMANIA THE SHOW die beliebtesten Hits erneut auf die Bühne – ein unvergessliches Erlebnis für alle Generationen. Tickets gibt es ab dem 12. März 2025 um 10:00 Uhr bei www.eventim.de und ab dem 14. März 2025 an allen bekannten Vorverkaufsstellen sowie unter www.semmel.de. \n\n\n\n\n„Dancing Queen“ wird 50 Jahre alt! 1976 erlebte die legendäre Single direkt nach ihrer Veröffentlichung einen unglaublichen Erfolg: In 16 Ländern erreichte der Song Platz 1 der Charts und zählt damit zu den größten Hits von ABBA. Allein in Deutschland hielt sich der Track beeindruckende 42 Wochen in den Charts. Mehrfach mit Platin und Gold ausgezeichnet\, gilt der Disco-Klassiker auch heute noch als zeitlose Hymne. \nAuch bei ABBAMANIA THE SHOW heißt es 2026: „You can dance\, you can jive – having the time of your life“! Gemeinsam mit dem Symphonic Rock Orchester und der ABBAMANIA-Band\, lassen herausragende Sängerinnen und Sänger die Magie der 70er- und 80er-Jahre wieder aufleben. Originalgetreue Kostüme\, mitreißende Performances und eine phänomenale Lichtshow sorgen für das perfekte ABBA-Erlebnis – und nicht zuletzt das begeisterte\, tanzende Publikum macht die Atmosphäre einzigartig. \nDie musikalische Zeitreise führt neben „Dancing Queen“ durch weitere unvergessliche Klassiker wie „Mamma Mia“\, „Gimme! Gimme! Gimme!“\, „SOS“ oder „The Winner Takes It All“ – und macht auch vor den neuen Songs aus dem Album Voyage nicht Halt. ABBAMANIA THE SHOW vereint alle Elemente\, die ABBA weltberühmt gemacht haben und bietet ein außergewöhnliches Konzerterlebnis\, das die Faszination auch nach einem halben Jahrhundert ungebrochen weiterträgt. \nBildquelle: Argo Konzerte 
URL:https://frankenvibes.de/event/abbamania-the-show/
LOCATION:Kia Metropol Arena Nürnberg\, Dr. -Ingeborg-Bausenwein-Straße 1\,\, Nürnberg\, 90431\, Germany
CATEGORIES:Konzert,Musical-Show,Musik-Show
ATTACH;FMTTYPE=image/jpeg:https://frankenvibes.de/wp-content/uploads/2025/09/Gross-Abba-Mania.jpeg
END:VEVENT
BEGIN:VEVENT
DTSTART;TZID=Europe/Berlin:20260422T193000
DTEND;TZID=Europe/Berlin:20260422T193000
DTSTAMP:20260422T021033
CREATED:20260313T091208Z
LAST-MODIFIED:20260313T091213Z
UID:10002885-1776886200-1776886200@frankenvibes.de
SUMMARY:„WEEKEND IM PARADIES“  mit Volker Heißmann und Martin Rassau
DESCRIPTION:München\, 1920\, Samstagvormittag im Ministerium. Der Regierungsrat\, sonst immer der erste an seinem Platz\, kommt zu spät ins Büro. Dass er mal wieder nicht befördert wurde\, hat er reichlich begossen – mit ungeahn ten Folgen. Die Kollegen rüsten sich schon fürs Wochenende am Rotsee. Ein Abgeordnete hat gerade einen umfangreichen Bericht über die empö rende Sittenlosigkeit im dortigen Hotel „Zum Paradies“ abgeliefert. Ein Hotelnachbar beschwert sich. Der Regierungsrat wittert die Chance\, endlich „Initiative“ zu zeigen. Freilich ahnt er nicht\, dass er im „Paradies“ das komplette Ministerium antrifft\, samt falscher „Gattinnen“. Turbulenzen und Peinlichkeiten\, die ihm genügend Stoff zur Profilierung liefern – wenn auch anders als geplant. \nEin turbolenter Schwank von Franz Arnold und Ernst Bach. Ganz und gar passend für unsere beiden Kult-Komödianten sowie das tolle Comödien Ensemble. \nBildquelle: Comödie\, Fürth
URL:https://frankenvibes.de/event/weekend-im-paradies-mit-volker-heissmann-und-martin-rassau-8/
LOCATION:Comödie Fürth\, Comödien-Platz 1\, Fürth\, 90762\, Germany
CATEGORIES:Kabarett & Comedy
ATTACH;FMTTYPE=image/png:https://frankenvibes.de/wp-content/uploads/2026/03/bild-12.png
END:VEVENT
BEGIN:VEVENT
DTSTART;TZID=Europe/Berlin:20260422T193000
DTEND;TZID=Europe/Berlin:20260422T193000
DTSTAMP:20260422T021033
CREATED:20260330T085514Z
LAST-MODIFIED:20260330T085520Z
UID:10003055-1776886200-1776886200@frankenvibes.de
SUMMARY:WORTWERK LÄDT EIN: MITEINANDER
DESCRIPTION:THEMA: MITEINANDER\n„Auf gute Nachbarschaft!“ Ein friedliches Miteinander\, gibt es das? Kommt man nicht nur miteinander aus\, sondern kann man auch miteinander leben? „Die sind richtig dicke!“ oder stecken sie nur alle unter einer Decke? Können wir an einem Strang ziehen\, wenn alle im selben Boot sitzen? Pyramiden\, Kathedralen\, eine Internationale Raumstation bauen. Können wir miteinander reden? Können wir alt werden\, Seite an Seite\, Arm in Arm\, Hand in Hand? \nIm April wollen wir mit euch zusammen Literatur genießen! Ihr seid herzlich eingeladen zu unterschiedlichen Gedichten und Geschichten des Wortwerks. Wortwerk lädt ein: miteinander. \nFoto: E-Werk Erlangen
URL:https://frankenvibes.de/event/wortwerk-laedt-ein-miteinander/
LOCATION:E-Werk Erlangen\, Fuchsenwiese 1\, Erlangen\, 91054
CATEGORIES:Lesung
ATTACH;FMTTYPE=image/jpeg:https://frankenvibes.de/wp-content/uploads/2026/03/csm_16zu9mittextundthema-Seite001_01_56209eee0e.jpeg
END:VEVENT
BEGIN:VEVENT
DTSTART;TZID=Europe/Berlin:20260422T200000
DTEND;TZID=Europe/Berlin:20260422T200000
DTSTAMP:20260422T021033
CREATED:20260313T091952Z
LAST-MODIFIED:20260313T091958Z
UID:10002894-1776888000-1776888000@frankenvibes.de
SUMMARY:JOSEF HADER: „Hader on Ice“
DESCRIPTION:„Immer is irgendwas. Entweder die Fiaß schlafen mir ein. Oder sie jucken. Dann krieg i wieder ka Luft\, wenn i schneller geh. Oder i hab an Schweißausbruch. Dann friert mich wieder. Das Essen schmeckt mir nimmer\, der Sex ist fad\, die Hosen sind z’eng. Was is das bitte? – Des muss alles dieser Klimawandel sein\, oder? Temperaturen hat’s im Sommer wie in den Tropen! Dadurch gibt’s auf einmal diese riesigen Insekten! Die hat’s doch früher net geb’n! Wenn die dich stechen\, kriegst einen Dippel\, der geht monatelang net weg! Wahrscheinlich san die alle gentechnisch verändert. Und die Pflanzen! Die werd’n jetzt auch schon deppert. Die spinnen\, die Pflanzen! Die wachsen jetzt alles zua! Seit i nimmer aus’n Haus geh. Meine Theorie is\, die Pflanzen woll’n die Herrschaft über den Planeten zurück. \nDie sind alle miteinander unterirdisch verbunden über ihre Wurzeln. Weltweit! Die Pflanzen hab’n einen geheimen Plan. Sie wollen die totale Zerstörung der abendländischen Kultur und des österreichischen Volks-Rock’n’ Roll. Das soll alles ersetzt werden durch äh Photosynthese.“ (REGIE: Petra Dobetsberger) Je abstoßender das Publikum die kaputte Figur Hader finden muss\, desto mehr bewundert es den Autor Hader für seinen einzigartigen melancholischen Zynismus und den Performer Hader für die Konsequenz\, mit der seine Figur im Laufe des zweiteiligen Abends immer mehr verfällt. … Vielleicht weil es viel um den Tod geht\, wirkt dieses perfekt gebaute\, mit schludriger Musikalität dargebrachte Stück wie ein von Reife durchdrungenes Alterswerk. (Martin Pesl\, DEUTSCHLANDFUNK KULTUR) \nBildquelle: Comödie\, Fürth
URL:https://frankenvibes.de/event/josef-hader-hader-on-ice-2/
LOCATION:Stadthalle Fürth\, Rosenstraße 50\, Fürth\, 90762\, Germany
CATEGORIES:Konzert,Liedermacher
ATTACH;FMTTYPE=image/png:https://frankenvibes.de/wp-content/uploads/2026/03/bild-13.png
END:VEVENT
BEGIN:VEVENT
DTSTART;TZID=Europe/Berlin:20260422T200000
DTEND;TZID=Europe/Berlin:20260422T200000
DTSTAMP:20260422T021033
CREATED:20260327T080554Z
LAST-MODIFIED:20260327T080559Z
UID:10002998-1776888000-1776888000@frankenvibes.de
SUMMARY:SERAPHINA KALZE
DESCRIPTION:Poetry und Humor auf der Bühne. \n  \n  \nBildquelle: Seraphina Kalze
URL:https://frankenvibes.de/event/seraphina-kalze/
LOCATION:Gutmann am Dutzendteich\, Bayernstraße 150\, Nürnberg\, 90478\, Germany
CATEGORIES:Comedy
ATTACH;FMTTYPE=image/jpeg:https://frankenvibes.de/wp-content/uploads/2026/03/SeraphinaKalze_c_SeraphinaKalze_900.jpg
END:VEVENT
BEGIN:VEVENT
DTSTART;TZID=Europe/Berlin:20260422T200000
DTEND;TZID=Europe/Berlin:20260422T200000
DTSTAMP:20260422T021033
CREATED:20260330T090046Z
LAST-MODIFIED:20260330T090052Z
UID:10003056-1776888000-1776888000@frankenvibes.de
SUMMARY:HUNDREDS
DESCRIPTION:Sirens Tour 2026\nEs gibt Alben\, die einen im richtigen Moment erwischen. „The Current“ von Hundreds ist perfekt für die letzten dunklen Wintertage. Es zieht einen aus dem Stimmungsloch und gibt Hoffnung. Eva Milner singt im ersten Lied: „Dark times are over now\, we scared them off\, and it all begins“. Das Album verbindet organische und elektronische Elemente\, große Melodien und Emotionen. Die Klangfarbe ist heller\, die Attitüde kämpferischer. „Wilderness“ war düsterer\, aber „The Current“ zeigt viele Facetten und bleibt musikalisch vielfältig. \nEvas Lyrics und ihre Sicht auf die Welt erinnern an Björk und Kate Bush. Hundreds verneigen sich mit „Consequence“ vor The Notwist. Das Albumcover von Falk Schwalbe zu „The Current“ deutet auf einen unruhigen Fluss hin. Eva und Philipp mussten ihre Arbeitsweise ändern\, um Blockaden zu lösen. Philipp ging nach Berlin\, Lucas Herweg half im Studio. Konzerte mit dem hr-Sinfonieorchester gaben kreativen Kick. Die Single „Calling“ zeigt neue Wege: Synths\, Bläser\, Evas starke Stimme. „The Current“ ist ein Produkt von Zusammenarbeit und Emanzipation. Hundreds gehen auf ihre größte Tour\, 18 Shows in Deutschland\, Auftakt in der Elbphilharmonie Hamburg. \nFoto: Konrad Schmidt
URL:https://frankenvibes.de/event/hundreds/
LOCATION:Z-Bau Nürnberg\, Frankenstraße 200\,\, Nürnberg\, 90461\, Germany
CATEGORIES:Electro & Techno
ATTACH;FMTTYPE=image/jpeg:https://frankenvibes.de/wp-content/uploads/2026/03/csm_Hundreds_1_c_J-Konrad-Schmidt_0520_c2940dd329.jpg
END:VEVENT
END:VCALENDAR