BEGIN:VCALENDAR
VERSION:2.0
PRODID:-//Franken VIBES - ECPv6.15.18//NONSGML v1.0//EN
CALSCALE:GREGORIAN
METHOD:PUBLISH
X-WR-CALNAME:Franken VIBES
X-ORIGINAL-URL:https://frankenvibes.de
X-WR-CALDESC:Veranstaltungen für Franken VIBES
REFRESH-INTERVAL;VALUE=DURATION:PT1H
X-Robots-Tag:noindex
X-PUBLISHED-TTL:PT1H
BEGIN:VTIMEZONE
TZID:Europe/Berlin
BEGIN:DAYLIGHT
TZOFFSETFROM:+0100
TZOFFSETTO:+0200
TZNAME:CEST
DTSTART:20250330T010000
END:DAYLIGHT
BEGIN:STANDARD
TZOFFSETFROM:+0200
TZOFFSETTO:+0100
TZNAME:CET
DTSTART:20251026T010000
END:STANDARD
BEGIN:DAYLIGHT
TZOFFSETFROM:+0100
TZOFFSETTO:+0200
TZNAME:CEST
DTSTART:20260329T010000
END:DAYLIGHT
BEGIN:STANDARD
TZOFFSETFROM:+0200
TZOFFSETTO:+0100
TZNAME:CET
DTSTART:20261025T010000
END:STANDARD
BEGIN:DAYLIGHT
TZOFFSETFROM:+0100
TZOFFSETTO:+0200
TZNAME:CEST
DTSTART:20270328T010000
END:DAYLIGHT
BEGIN:STANDARD
TZOFFSETFROM:+0200
TZOFFSETTO:+0100
TZNAME:CET
DTSTART:20271031T010000
END:STANDARD
BEGIN:DAYLIGHT
TZOFFSETFROM:+0100
TZOFFSETTO:+0200
TZNAME:CEST
DTSTART:20280326T010000
END:DAYLIGHT
BEGIN:STANDARD
TZOFFSETFROM:+0200
TZOFFSETTO:+0100
TZNAME:CET
DTSTART:20281029T010000
END:STANDARD
END:VTIMEZONE
BEGIN:VEVENT
DTSTART;TZID=Europe/Berlin:20260327T200000
DTEND;TZID=Europe/Berlin:20270426T200000
DTSTAMP:20260423T014142
CREATED:20250426T151540Z
LAST-MODIFIED:20250426T151540Z
UID:10000514-1774641600-1808769600@frankenvibes.de
SUMMARY:Thorsten Havener
DESCRIPTION:ALLES KOPFSACHE?\ngeheimnisvoll\nfaszinierend\ninspirierend\n\nSeit über 20 Jahren verblüfft Thorsten Havener mit seinen mentalen Fähigkeiten seine Zuschauer im TV und auf den Bühnen dieser Welt. Hunderttausende verfolgten bereits weltweit staunend sein Schaffen und blieben rätselnd zurück.\n\nALLES KOPFSACHE ? – Das neue Programm!\n\nCharmant entführt Thorsten Havener sie in eine Welt\, in der mehr möglich ist als sie denken. Diese Reise führt seine Gäste tief in ihr Innerstes\, zu ihrer Intuition und an den Rand ihrer Vorstellungskraft. So erlangen sie völlig neue Einblicke in die Kraft ihrer Gedanken und deren Auswirkung auf ihre Wirklichkeit.\n\nRealität\, Intuition\, Zufall und wirklich alles Kopfsache ?\n\nBildquelle: Thorsten Havener
URL:https://frankenvibes.de/event/thorsten-havener-2/
LOCATION:Gutmann am Dutzendteich\, Bayernstraße 150\, Nürnberg\, 90478\, Germany
CATEGORIES:Kabarett & Comedy
ATTACH;FMTTYPE=image/png:https://frankenvibes.de/wp-content/uploads/2025/04/image-e1745680348185.png
END:VEVENT
BEGIN:VEVENT
DTSTART;TZID=Europe/Berlin:20260407T193000
DTEND;TZID=Europe/Berlin:20261013T170000
DTSTAMP:20260423T014142
CREATED:20250930T145232Z
LAST-MODIFIED:20260131T110646Z
UID:10001436-1775590200-1791910800@frankenvibes.de
SUMMARY:THE WORLD OF HANS ZIMMER
DESCRIPTION:The Immersive Symphony \n\n\n\n\nTHE ORIGINAL presented & curated by HANS ZIMMER\nMit der Konzertreihe „The World of Hans Zimmer“ hat der mehrfache Academy Award® – und Grammy-Gewinner Hans Zimmer Live-Erlebnisse geschaffen\, die Fans weltweit auf individuelle und beeindruckende Weise durch seine Filmmusik führen. Als musikalischer Leiter und Kurator zeichnet der Meister persönlich maßgeblich für die „World of Hans Zimmer“- Produktionen verantwortlich\, auch wenn er dabei nicht selbst auf der Bühne steht. \n„The Immersive Symphony“ ist der jüngste Neuzugang der international gefeierten Konzertreihe. Nach der umjubelten Weltpremiere im Januar 2025 im Metronom Theater Oberhausen geht dieses neue Show-Juwel im Frühjahr 2026 endlich auf Tournee. \nHerausragende Solistinnen und Solisten aus Zimmers Talentschmiede sowie das „World of Hans Zimmer Orchestra“ erwecken Zimmers weltberühmte Melodien aus Filmen wie „Dune“\, „Inception“\, „Der König der Löwen“ und „Gladiator“ zum Leben und sorgen für zahlreiche Gänsehautmomente. Fesselndes Lichtdesign\, atemberaubende visuelle Effekte und der unvergleichlich-originale Hans Zimmer-Klangteppich ziehen die Zuschauer in ihren Bann und lassen sie zu einem integralen Teil dieser magischen Konzert-Atmosphäre werden. \nFans von Hans Zimmers Musik haben im Frühjahr 2026 die einmalige Gelegenheit\, in diese facettenreiche und magische Welt einzutauchen und das musikalische Genie des legendären Komponisten wie nie zuvor zu erleben. \nSeit die erste Konzerttournee „The World of Hans Zimmer – A Symphonic Celebration“ im Jahr 2018 in Deutschland Premiere feierte\, entstand daraus bis heute die international gefeierte Konzertreihe „The World of Hans Zimmer“\, die bis heute 1.2 Millionen Zuschauer zählt. \nDas brandneue Album „The World of Hans Zimmer – Part II ‚A New Dimension‘“ erschien Ende Januar 2025 über Sony Music Classical. \nBildquelle: Argo Konzerte 
URL:https://frankenvibes.de/event/the-world-of-hans-zimmer-2/
LOCATION:Kia Metropol Arena Nürnberg\, Dr. -Ingeborg-Bausenwein-Straße 1\,\, Nürnberg\, 90431\, Germany
CATEGORIES:Konzert,Rock & Pop
ATTACH;FMTTYPE=image/jpeg:https://frankenvibes.de/wp-content/uploads/2025/09/The-World-of-hans-zimmer.jpeg
END:VEVENT
BEGIN:VEVENT
DTSTART;TZID=Europe/Berlin:20260423T190000
DTEND;TZID=Europe/Berlin:20260423T190000
DTSTAMP:20260423T014142
CREATED:20260330T090950Z
LAST-MODIFIED:20260330T091008Z
UID:10003057-1776970800-1776970800@frankenvibes.de
SUMMARY:U20 POETRY SLAM
DESCRIPTION:Der Erlanger U20 Poetry Slam stellt mit seiner monatlichen Show eine der aktivsten Plattformen für junge (U20 = unter 20 Jahren) Bühnendichter*innen dar\, nicht nur in Bayern\, sondern ganz Deutschland.\nUnter der Moderation und Organisation von Kathi Mock und Cris Ortega haben sechs junge Poet*innen jeweils sechs Minuten Zeit\, das Publikum in der ehrwürdigen Kellerbühne mit ihren selbst verfassten Texten (kein Gesang\, keine Requisiten) zum Nachdenken\, Lachen oder Weinen zu bringen. \nDieses Publikum klatscht dann zwei Jungdichter*innen ins Finale\, die versuchen\, mit einem weiteren Text den Sieg nach Hause zu tragen. Der Slam wird flankiert von der Performance eines erfahrenen Special Guests und musikalisch von DJ Valentin Olpp umrahmt. \nDie Zuschauer*innen dürfen sich auf überraschende Abende voller Kurzgeschichten\, Gedichte und Erfahrungsberichte aus der wundersamen Welt der Jugend freuen. \nFoto: E-Werk Erlangen
URL:https://frankenvibes.de/event/u20-poetry-slam-8/
LOCATION:E-Werk Erlangen\, Fuchsenwiese 1\, Erlangen\, 91054
CATEGORIES:Kleinkunst & Slam
ATTACH;FMTTYPE=image/jpeg:https://frankenvibes.de/wp-content/uploads/2026/03/csm_U20-Poetry-Slam-HP_23fa856e90-4.jpg
END:VEVENT
BEGIN:VEVENT
DTSTART;TZID=Europe/Berlin:20260423T193000
DTEND;TZID=Europe/Berlin:20260423T193000
DTSTAMP:20260423T014142
CREATED:20260313T091347Z
LAST-MODIFIED:20260313T091359Z
UID:10002886-1776972600-1776972600@frankenvibes.de
SUMMARY:„WEEKEND IM PARADIES“  mit Volker Heißmann und Martin Rassau
DESCRIPTION:München\, 1920\, Samstagvormittag im Ministerium. Der Regierungsrat\, sonst immer der erste an seinem Platz\, kommt zu spät ins Büro. Dass er mal wieder nicht befördert wurde\, hat er reichlich begossen – mit ungeahnten Folgen. Die Kollegen rüsten sich schon fürs Wochenende am Rotsee. Ein Abgeordnete hat gerade einen umfangreichen Bericht über die empö rende Sittenlosigkeit im dortigen Hotel „Zum Paradies“ abgeliefert. Ein Hotelnachbar beschwert sich. Der Regierungsrat wittert die Chance\, endlich „Initiative“ zu zeigen. Freilich ahnt er nicht\, dass er im „Paradies“ das komplette Ministerium antrifft\, samt falscher „Gattinnen“. Turbulenzen und Peinlichkeiten\, die ihm genügend Stoff zur Profilierung liefern – wenn auch anders als geplant. \nEin turbolenter Schwank von Franz Arnold und Ernst Bach. Ganz und gar passend für unsere beiden Kult-Komödianten sowie das tolle Comödien Ensemble. \nBildquelle: Comödie\, Fürth
URL:https://frankenvibes.de/event/weekend-im-paradies-mit-volker-heissmann-und-martin-rassau-9/
LOCATION:Comödie Fürth\, Comödien-Platz 1\, Fürth\, 90762\, Germany
CATEGORIES:Kabarett & Comedy
ATTACH;FMTTYPE=image/png:https://frankenvibes.de/wp-content/uploads/2026/03/bild-12.png
END:VEVENT
BEGIN:VEVENT
DTSTART;TZID=Europe/Berlin:20260423T193000
DTEND;TZID=Europe/Berlin:20260423T193000
DTSTAMP:20260423T014142
CREATED:20260313T093545Z
LAST-MODIFIED:20260313T093551Z
UID:10002902-1776972600-1776972600@frankenvibes.de
SUMMARY:GROUNDING - Jazz
DESCRIPTION:Mit ihrer ersten EP\, die im Januar erschienen ist\, stellt sich GROUNDING\, das neue Projekt des Saxophonisten Fabian Deschler vor – ein Quartett\, das den Dialog zwischen Konkretem und Abstraktem auf innovative und zugängliche Weise gestaltet. \nDie Band bewegt sich in einem Spannungsfeld zwischen zeitgenössischem und avantgardistischem Jazz. Prägnante Melodien entwickeln sich zu experimentellen Klängen\, von energisch roh bis ruhig und introspektiv. Dabei bleiben die Musiker stets geerdet\, was nicht nur als Hommage an ihren Namen\, sondern als Grundsatz ihrer musikalischen Identität verstanden werden kann. \nGROUNDING vereint vier aufstrebende Musiker aus Deutschland und Schweden: \nFabian Deschler (Altsaxophon)\, Daniel Sauer (Tenorsaxophon)\, Olle Lannér Risenfors (Kontrabass) und Malte Wiest (Schlagzeug). \nTrotz\, oder gerade wegen ihrer internationalen Wurzeln haben sie eine unverkennbare kollektive Klangsprache entwickelt\, die den Hörer in unerwartete musikalische Welten führt. Im Zentrum der Band steht das Wechselspiel zwischen den beiden Saxophonen\, die sich kontrapunktisch ergänzen\, miteinander harmonieren oder sich kontrastieren. Die Abwesenheit eines Harmonieinstruments öffnet dabei den Raum für eine intensive Interaktion\, sowohl zwischen den Musikern als auch zwischen Struktur und Freiheit. Die Kompositionen spiegeln diese dualistische Herangehensweise ebenso wider: \nEin Stück wie Rotation zeigt mit seinem rockartigen Drive\, wie sich klare Formen und spontane Kreativität gegenseitig befruchten. Meditation hingegen nimmt den Hörer mit auf eine Reise\, die sich von minimalistischen Ostinati hin zu freien\, abstrahierten Klanglandschaften entfaltet. Mit The Tunnel erreicht die Band schließlich den Höhepunkt ihrer avantgardistischen Seite: ein intensives Spiel mit Klangfarben\, Dynamik und expressiver Energie. Jedes Stück auf der EP ist dabei ein eigener Mikrokosmos\, der die verschiedenen Facetten von GROUNDING offenbart. \nDoch GROUNDING ist weit mehr als ein reines Studio-Projekt. Ihre Konzerte leben von einer unermüdlichen Experimentierfreude und einer musikalischen Wachheit\, die jede Performance zu einem einmaligen Erlebnis machen. Mit großer Sensibilität für Details und einer beeindruckenden Spontaneität schaffen sie es\, das Publikum\, ob Jazzkenner oder neugierige Musikliebhaber\, zu begeistern. \nFoto Copyright: Shin Jeong Hoon
URL:https://frankenvibes.de/event/grounding-jazz/
LOCATION:Kulturwerkstatt Disharmonie Schweinfurt\, Gutermann-Promenade 7\, Schweinfurt\, 97421\, Germany
CATEGORIES:Blues & Jazz,Konzert
ATTACH;FMTTYPE=image/webp:https://frankenvibes.de/wp-content/uploads/2026/03/GROUNDING-Pressefoto-quer-1-Shin-Jeong-Hoon.jpg.webp
END:VEVENT
BEGIN:VEVENT
DTSTART;TZID=Europe/Berlin:20260423T193000
DTEND;TZID=Europe/Berlin:20260423T193000
DTSTAMP:20260423T014142
CREATED:20260320T105331Z
LAST-MODIFIED:20260320T105406Z
UID:10002956-1776972600-1776972600@frankenvibes.de
SUMMARY:KNEIPENSINGEN FÜR ALLE! - MIT DAVID SAAM & RES RICHTER
DESCRIPTION:Alleine Vorsingen ist doof. Gemeinsam mit anderen zu singen aber macht sehr froh und glücklich. Beim Kneipensingen mit David Saam und Res Richter dürfen alle miteinander ohne Rücksicht auf Verluste oder falsche Töne schmettern. Die Freude am Singen zählt! \nGesungen wird\, was Spaß macht\, und das nicht zu Plastikmusik aus der Konserve\, sondern zu Livemusik von echten Musikern. David Saam (Kellerkommando) und Res Richter (Boxgalopp) bringen die schönsten Mitsinghits aus den Bereichen Rock und Pop mit. Aber auch ein paar besondere und überraschende Perlen bereiten die beiden Musiküsse vor. Und noch eine frohe Botschaft: Die Texte muss keiner auswendig kennen\, die werden natürlich serviert. \nKommt und lasst uns trällern! \nBildquelle: christian_merz
URL:https://frankenvibes.de/event/kneipensingen-fuer-alle-mit-david-saam-res-richter-3/
LOCATION:Live-Club Bamberg\, Obere Sandstraße 7\, Bamberg\, 96049
CATEGORIES:Konzert
ATTACH;FMTTYPE=image/jpeg:https://frankenvibes.de/wp-content/uploads/2026/03/2024_05_16_kneipensingen_fuer_alle_mit_res_richter_und_david_saam_-_foto_christian_merz_-_05q_0-2-scaled.jpg
END:VEVENT
BEGIN:VEVENT
DTSTART;TZID=Europe/Berlin:20260423T200000
DTEND;TZID=Europe/Berlin:20260423T200000
DTSTAMP:20260423T014142
CREATED:20250811T135242Z
LAST-MODIFIED:20260404T120952Z
UID:10001123-1776974400-1776974400@frankenvibes.de
SUMMARY:⭐️ Eläkeläiset
DESCRIPTION:HUMPPAAXIDENT II\nEläkeläiset sind die „größte Humppa-Band der Welt“. Das sagen sie selbst – und wer würde da widersprechen? In ihrer Heimat Finnland sind die „Rentner“ längst eine Kult-Institution\, deren Alben regelmäßig ganz vorne in den Charts landen. Aber auch hierzulande hat die Band eine beeindruckend große und vor allem treue Fangemeinde. \nDie Anzahl ihrer Veröffentlichungen? Unzählig! Sogar eine DVD wurde in Finnland mit Gold ausgezeichnet. \nIhr erster Deutschland-Auftritt fand vor genau 30 Jahren statt – am 2. März 1996 im Juz Rostock. Grund genug\, dieses Jubiläum gebührend zu feiern! \nPräsentiert von Folker\, Folk Galore & OX \nFür 2026 ist außerdem ein neues Album geplant – Fans dürfen sich freuen! \nIm 33. Jahr ihres Bestehens bringen Eläkeläiset nun mit „Humppaaxident II“ ihre einzigartige Mischung aus Humppa und Chaos zurück auf die Bühnen Deutschlands. \nBildquelle: Timo Isoaho
URL:https://frankenvibes.de/event/elaekelaeiset/
LOCATION:Kulturboden Hallstadt\, An der Marktscheune 1\, Hallstadt\, 96103\, Germany
CATEGORIES:Rock & Pop
ATTACH;FMTTYPE=image/jpeg:https://frankenvibes.de/wp-content/uploads/2025/08/Elkeliset1TimoIsoaho_l.jpg
END:VEVENT
BEGIN:VEVENT
DTSTART;TZID=Europe/Berlin:20260423T200000
DTEND;TZID=Europe/Berlin:20260423T200000
DTSTAMP:20260423T014142
CREATED:20260313T095934Z
LAST-MODIFIED:20260330T091127Z
UID:10002915-1776974400-1776974400@frankenvibes.de
SUMMARY:C. Heiland - Wahre Schönheit kommt von außen
DESCRIPTION:Wahre Schönheit kommt von außen\nDer Heiland kommt! Mit seinem neuen Programm. Es wird furioser denn je und begleitet wird er…\nvon sich selbst. Natürlich wieder auf seinem Omnichord\, weil das Ding seinen Geist einfach nicht\naufgeben will.\nDieses Mal geht es um das Thema innere Schönheit\, äußere Schönheit\, Liebe und Wurstsalat.\nHeutzutage spritzt man sich Dichtungssilikon unter die Haut\, um vermeintlich schönere Lippen\nzu haben. Und das in Zeiten von Mikroplastik. C.Heiland findet: „Sie können viel einfacher\nbetörende Lippen bekommen. Es reicht schon\, jeden Tag ein paar nette Worte zu sprechen.“\nSichern Sie sich jetzt Karten für des Heilands ehrlichstes\, schönstes und wahrscheinlich\nerotischstes Programm. Denn wir werden alle nicht jünger. Da sind Äußerlichkeiten nicht mehr\nbloß zweitrangig.\nC.Heiland klärt endgültig die Frage\, ob wahre Schönheit wirklich von innen kommt und wenn ja\,\nwarum sie da so lange faul herum lag. \nFoto: Olli Haas
URL:https://frankenvibes.de/event/c-heiland-wahre-schoenheit-kommt-von-aussen/
LOCATION:Fifty Fifty Erlangen\, Südliche Stadtmauerstraße 1\, Erlangen\, 91054\, Germany
CATEGORIES:Kabarett & Comedy
ATTACH;FMTTYPE=image/jpeg:https://frankenvibes.de/wp-content/uploads/2026/03/slideGroup_519330_0.jpg
END:VEVENT
BEGIN:VEVENT
DTSTART;TZID=Europe/Berlin:20260423T200000
DTEND;TZID=Europe/Berlin:20260423T200000
DTSTAMP:20260423T014142
CREATED:20260327T080134Z
LAST-MODIFIED:20260327T080139Z
UID:10002999-1776974400-1776974400@frankenvibes.de
SUMMARY:MADDIN SCHNEIDER
DESCRIPTION:Kult-Comedian Maddin Schneider live. \nBildquelle: Patrick Reymann
URL:https://frankenvibes.de/event/maddin-schneider/
LOCATION:Gutmann am Dutzendteich\, Bayernstraße 150\, Nürnberg\, 90478\, Germany
CATEGORIES:Comedy,Kabarett & Comedy
ATTACH;FMTTYPE=image/jpeg:https://frankenvibes.de/wp-content/uploads/2026/03/MaddinSchneider_PatrickReymann_900.jpg
END:VEVENT
BEGIN:VEVENT
DTSTART;TZID=Europe/Berlin:20260423T200000
DTEND;TZID=Europe/Berlin:20260423T200000
DTSTAMP:20260423T014142
CREATED:20260327T080237Z
LAST-MODIFIED:20260327T080242Z
UID:10003000-1776974400-1776974400@frankenvibes.de
SUMMARY:SPIDERGAWD
DESCRIPTION:Rock aus Norwegen live. \nBildquelle: Geir Mogen
URL:https://frankenvibes.de/event/spidergawd/
LOCATION:Hirsch Nürnberg\, Vogelweiherstraße 66\, Nürnberg\, 90441\, Germany
CATEGORIES:Konzert,Rock & Pop
ATTACH;FMTTYPE=image/jpeg:https://frankenvibes.de/wp-content/uploads/2026/03/Spidergawd_c_GeirMogen_900.jpg
END:VEVENT
BEGIN:VEVENT
DTSTART;TZID=Europe/Berlin:20260423T200000
DTEND;TZID=Europe/Berlin:20260423T200000
DTSTAMP:20260423T014142
CREATED:20260327T080403Z
LAST-MODIFIED:20260327T080408Z
UID:10003001-1776974400-1776974400@frankenvibes.de
SUMMARY:MANDELKOKAINSCHNAPS
DESCRIPTION:Indie/Alternative live im Z-Bau. \n  \nBildquelle: Concertbüro Franken
URL:https://frankenvibes.de/event/mandelkokainschnaps/
LOCATION:Z-Bau Nürnberg\, Frankenstraße 200\,\, Nürnberg\, 90461\, Germany
CATEGORIES:Indiepop,Konzert
ATTACH;FMTTYPE=image/png:https://frankenvibes.de/wp-content/uploads/2026/03/MandelKokainSchnaps_900.png
END:VEVENT
BEGIN:VEVENT
DTSTART;TZID=Europe/Berlin:20260423T200000
DTEND;TZID=Europe/Berlin:20260423T200000
DTSTAMP:20260423T014142
CREATED:20260330T090707Z
LAST-MODIFIED:20260330T090730Z
UID:10003031-1776974400-1776974400@frankenvibes.de
SUMMARY:Jochen Malmsheimer - Statt wesentlich…
DESCRIPTION:STATT WESENTLICH…\nDieser Titel „Statt wesentlich die Welt bewegt\, hab‘ ich wohl nur das Meer gepflügt …“ des neuen Programms von Jochen Malmsheimer geht auf Simon Bolivar zurück\, der ja\, wenn man dem Internet glauben möchte\, und das tun ja inzwischen viel zu viele\, lange mit Jean Paul Sartre zusammen lebte. Vielleicht war es aber auch Simone Signoret\, die mit Sartre zusammenlebte.\nOder Sartre lebte allein\, dafür ständig im Boudoire.\nVielleicht lebte Sartre aber auch mit niemanden zusammen\, außer vielleicht mit einem Beaujolais und einigen Jetons. Gitanes.\nWer vermag das zu sagen? Und\, vor allem\, warum? \nIn diesem zwar morgenleerenden\, dafür aber abendfüllenden Programm kommen weder Elenantilopen noch Bromelien oder andere Süßgrasartige vor\, weil die\, vollkommen zu Recht\, streng geschützt sind. Zudem geht es\, neben allerlei Absonderlichkeiten mehr\, um den Fundamentalirrtum Radfahren\, die Seltenheit von Kunst\, ihre rätselhafte Beziehung zum Mond und andere große und mittelgroße Fragen\, und zwar sehr rigoros. \nDoch wie immer und überall gilt auch hier:\nWas wirklich geschieht\, weiß allein der Wind! \nFoto: © Jochen Malmsheimer
URL:https://frankenvibes.de/event/jochen-malmsheimer-statt-wesentlich/
LOCATION:Das Zentrum Bayreuth\, Äußere Badstr. 7a\, Bayreuth\, 95448\, Germany
CATEGORIES:Lesung
ATTACH;FMTTYPE=image/jpeg:https://frankenvibes.de/wp-content/uploads/2026/03/24_04_2026_Jochen_Malmsheimer_c_Jochen_Malmsheimer-fcbc1e9d.jpg
END:VEVENT
END:VCALENDAR