BEGIN:VCALENDAR
VERSION:2.0
PRODID:-//Franken VIBES - ECPv6.15.20//NONSGML v1.0//EN
CALSCALE:GREGORIAN
METHOD:PUBLISH
X-WR-CALNAME:Franken VIBES
X-ORIGINAL-URL:https://frankenvibes.de
X-WR-CALDESC:Veranstaltungen für Franken VIBES
REFRESH-INTERVAL;VALUE=DURATION:PT1H
X-Robots-Tag:noindex
X-PUBLISHED-TTL:PT1H
BEGIN:VTIMEZONE
TZID:Europe/Berlin
BEGIN:DAYLIGHT
TZOFFSETFROM:+0100
TZOFFSETTO:+0200
TZNAME:CEST
DTSTART:20250330T010000
END:DAYLIGHT
BEGIN:STANDARD
TZOFFSETFROM:+0200
TZOFFSETTO:+0100
TZNAME:CET
DTSTART:20251026T010000
END:STANDARD
BEGIN:DAYLIGHT
TZOFFSETFROM:+0100
TZOFFSETTO:+0200
TZNAME:CEST
DTSTART:20260329T010000
END:DAYLIGHT
BEGIN:STANDARD
TZOFFSETFROM:+0200
TZOFFSETTO:+0100
TZNAME:CET
DTSTART:20261025T010000
END:STANDARD
BEGIN:DAYLIGHT
TZOFFSETFROM:+0100
TZOFFSETTO:+0200
TZNAME:CEST
DTSTART:20270328T010000
END:DAYLIGHT
BEGIN:STANDARD
TZOFFSETFROM:+0200
TZOFFSETTO:+0100
TZNAME:CET
DTSTART:20271031T010000
END:STANDARD
BEGIN:DAYLIGHT
TZOFFSETFROM:+0100
TZOFFSETTO:+0200
TZNAME:CEST
DTSTART:20280326T010000
END:DAYLIGHT
BEGIN:STANDARD
TZOFFSETFROM:+0200
TZOFFSETTO:+0100
TZNAME:CET
DTSTART:20281029T010000
END:STANDARD
END:VTIMEZONE
BEGIN:VEVENT
DTSTART;TZID=Europe/Berlin:20260327T200000
DTEND;TZID=Europe/Berlin:20270426T200000
DTSTAMP:20260425T012239
CREATED:20250426T151540Z
LAST-MODIFIED:20250426T151540Z
UID:10000514-1774641600-1808769600@frankenvibes.de
SUMMARY:Thorsten Havener
DESCRIPTION:ALLES KOPFSACHE?\ngeheimnisvoll\nfaszinierend\ninspirierend\n\nSeit über 20 Jahren verblüfft Thorsten Havener mit seinen mentalen Fähigkeiten seine Zuschauer im TV und auf den Bühnen dieser Welt. Hunderttausende verfolgten bereits weltweit staunend sein Schaffen und blieben rätselnd zurück.\n\nALLES KOPFSACHE ? – Das neue Programm!\n\nCharmant entführt Thorsten Havener sie in eine Welt\, in der mehr möglich ist als sie denken. Diese Reise führt seine Gäste tief in ihr Innerstes\, zu ihrer Intuition und an den Rand ihrer Vorstellungskraft. So erlangen sie völlig neue Einblicke in die Kraft ihrer Gedanken und deren Auswirkung auf ihre Wirklichkeit.\n\nRealität\, Intuition\, Zufall und wirklich alles Kopfsache ?\n\nBildquelle: Thorsten Havener
URL:https://frankenvibes.de/event/thorsten-havener-2/
LOCATION:Gutmann am Dutzendteich\, Bayernstraße 150\, Nürnberg\, 90478\, Germany
CATEGORIES:Kabarett & Comedy
ATTACH;FMTTYPE=image/png:https://frankenvibes.de/wp-content/uploads/2025/04/image-e1745680348185.png
END:VEVENT
BEGIN:VEVENT
DTSTART;TZID=Europe/Berlin:20260407T193000
DTEND;TZID=Europe/Berlin:20261013T170000
DTSTAMP:20260425T012239
CREATED:20250930T145232Z
LAST-MODIFIED:20260131T110646Z
UID:10001436-1775590200-1791910800@frankenvibes.de
SUMMARY:THE WORLD OF HANS ZIMMER
DESCRIPTION:The Immersive Symphony \n\n\n\n\nTHE ORIGINAL presented & curated by HANS ZIMMER\nMit der Konzertreihe „The World of Hans Zimmer“ hat der mehrfache Academy Award® – und Grammy-Gewinner Hans Zimmer Live-Erlebnisse geschaffen\, die Fans weltweit auf individuelle und beeindruckende Weise durch seine Filmmusik führen. Als musikalischer Leiter und Kurator zeichnet der Meister persönlich maßgeblich für die „World of Hans Zimmer“- Produktionen verantwortlich\, auch wenn er dabei nicht selbst auf der Bühne steht. \n„The Immersive Symphony“ ist der jüngste Neuzugang der international gefeierten Konzertreihe. Nach der umjubelten Weltpremiere im Januar 2025 im Metronom Theater Oberhausen geht dieses neue Show-Juwel im Frühjahr 2026 endlich auf Tournee. \nHerausragende Solistinnen und Solisten aus Zimmers Talentschmiede sowie das „World of Hans Zimmer Orchestra“ erwecken Zimmers weltberühmte Melodien aus Filmen wie „Dune“\, „Inception“\, „Der König der Löwen“ und „Gladiator“ zum Leben und sorgen für zahlreiche Gänsehautmomente. Fesselndes Lichtdesign\, atemberaubende visuelle Effekte und der unvergleichlich-originale Hans Zimmer-Klangteppich ziehen die Zuschauer in ihren Bann und lassen sie zu einem integralen Teil dieser magischen Konzert-Atmosphäre werden. \nFans von Hans Zimmers Musik haben im Frühjahr 2026 die einmalige Gelegenheit\, in diese facettenreiche und magische Welt einzutauchen und das musikalische Genie des legendären Komponisten wie nie zuvor zu erleben. \nSeit die erste Konzerttournee „The World of Hans Zimmer – A Symphonic Celebration“ im Jahr 2018 in Deutschland Premiere feierte\, entstand daraus bis heute die international gefeierte Konzertreihe „The World of Hans Zimmer“\, die bis heute 1.2 Millionen Zuschauer zählt. \nDas brandneue Album „The World of Hans Zimmer – Part II ‚A New Dimension‘“ erschien Ende Januar 2025 über Sony Music Classical. \nBildquelle: Argo Konzerte 
URL:https://frankenvibes.de/event/the-world-of-hans-zimmer-2/
LOCATION:Kia Metropol Arena Nürnberg\, Dr. -Ingeborg-Bausenwein-Straße 1\,\, Nürnberg\, 90431\, Germany
CATEGORIES:Konzert,Rock & Pop
ATTACH;FMTTYPE=image/jpeg:https://frankenvibes.de/wp-content/uploads/2025/09/The-World-of-hans-zimmer.jpeg
END:VEVENT
BEGIN:VEVENT
DTSTART;TZID=Europe/Berlin:20260425T183000
DTEND;TZID=Europe/Berlin:20260425T200000
DTSTAMP:20260425T012239
CREATED:20260422T061059Z
LAST-MODIFIED:20260422T061139Z
UID:10003469-1777141800-1777147200@frankenvibes.de
SUMMARY:BR 2 Zündfunk im Kunst- und Kulturhaus Neuneinhalb
DESCRIPTION:Am letzten Samstag im Monat geht der Bayern 2 Zündfunk seit vielen Jahren raus aus dem Funkhaus am Münchener Hauptbahnhof\, tief rein ins weite\, vielfältige Bayernland. Diesmal sendet der Ü-Wagen live aus dem Kunst- und Kulturhaus Neuneinhalb in Bayreuth.\n\n\n \n\n\nAchim „Sechzig“ Bogdahn lädt ein zu einem bunten akustischen Stadtmagazin\, in dem es jeweils um neue Bands und Unkonventionelle aller Art aus den Gastgeberstädten gehen wird.\n\n\nDazu sind natürlich alle Lauschfreudigen herzlich eingeladen\, Einlass ist pünktlich um 18.30 Uhr\, nach Sendebeginn sind die Türen zu!\n\n\n\n\n\nEintritt: frei
URL:https://frankenvibes.de/event/br-2-zuendfunk-im-kunst-und-kulturhaus-neuneinhalb/
LOCATION:Kunst- und Kulturhaus Neuneinhalb Bayreuth\, Gerberplatz 1\, Bayreuth\, 95445
CATEGORIES:Oberfranken
END:VEVENT
BEGIN:VEVENT
DTSTART;TZID=Europe/Berlin:20260425T193000
DTEND;TZID=Europe/Berlin:20260425T193000
DTSTAMP:20260425T012239
CREATED:20260313T091438Z
LAST-MODIFIED:20260313T091443Z
UID:10002888-1777145400-1777145400@frankenvibes.de
SUMMARY:„WEEKEND IM PARADIES“  mit Volker Heißmann und Martin Rassau
DESCRIPTION:München\, 1920\, Samstagvormittag im Ministerium. Der Regierungsrat\, sonst immer der erste an seinem Platz\, kommt zu spät ins Büro. Dass er mal wieder nicht befördert wurde\, hat er reichlich begossen – mit ungeahnten Folgen. Die Kollegen rüsten sich schon fürs Wochenende am Rotsee. Ein Abgeordnete hat gerade einen umfangreichen Bericht über die empö rende Sittenlosigkeit im dortigen Hotel „Zum Paradies“ abgeliefert. Ein Hotelnachbar beschwert sich. Der Regierungsrat wittert die Chance\, endlich „Initiative“ zu zeigen. Freilich ahnt er nicht\, dass er im „Paradies“ das komplette Ministerium antrifft\, samt falscher „Gattinnen“. Turbulenzen und Peinlichkeiten\, die ihm genügend Stoff zur Profilierung liefern – wenn auch anders als geplant. \nEin turbolenter Schwank von Franz Arnold und Ernst Bach. Ganz und gar passend für unsere beiden Kult-Komödianten sowie das tolle Comödien Ensemble. \nBildquelle: Comödie\, Fürth
URL:https://frankenvibes.de/event/weekend-im-paradies-mit-volker-heissmann-und-martin-rassau-11/
LOCATION:Comödie Fürth\, Comödien-Platz 1\, Fürth\, 90762\, Germany
CATEGORIES:Kabarett & Comedy
ATTACH;FMTTYPE=image/png:https://frankenvibes.de/wp-content/uploads/2026/03/bild-12.png
END:VEVENT
BEGIN:VEVENT
DTSTART;TZID=Europe/Berlin:20260425T193000
DTEND;TZID=Europe/Berlin:20260425T193000
DTSTAMP:20260425T012239
CREATED:20260327T063322Z
LAST-MODIFIED:20260327T073311Z
UID:10002974-1777145400-1777145400@frankenvibes.de
SUMMARY:Der Mond – Theaterstück von TOBAK
DESCRIPTION:TOBAK\, die inklusive Theatergruppe der KUFA\, zeigt das Theaterstück Der Mond. \nDie Produktion steht für gelebte Inklusion durch Kultur. \nWeitere Vorstellungen am 24. und 26.04.2026 jeweils um 19:30 Uhr.
URL:https://frankenvibes.de/event/der-mond-theaterstueck-von-tobak/
CATEGORIES:Kultur,Theater
ATTACH;FMTTYPE=image/jpeg:https://frankenvibes.de/wp-content/uploads/2026/03/mond-768x667-1.jpg
END:VEVENT
BEGIN:VEVENT
DTSTART;TZID=Europe/Berlin:20260425T193000
DTEND;TZID=Europe/Berlin:20260425T193000
DTSTAMP:20260425T012239
CREATED:20260327T080827Z
LAST-MODIFIED:20260327T080832Z
UID:10003020-1777145400-1777145400@frankenvibes.de
SUMMARY:No Future
DESCRIPTION:Album-Release-Show mit mehreren Punkbands. \n  \n  \nBildquelle: Stattbahnhof Schweinfurt
URL:https://frankenvibes.de/event/no-future/
LOCATION:Stattbahnhof Schweinfurt\, Alte Bahnhofstraße 8\, Schweinfurt\, 97422\, Germany
CATEGORIES:77-Punkrock,Konzert | Punkrock,Konzert | Ska-Punk,Konzert | Tribute Punk
ATTACH;FMTTYPE=image/jpeg:https://frankenvibes.de/wp-content/uploads/2026/03/WhatsApp-Image-2026-02-18-at-18.07.23-e1771515984671-933x1024-1.jpeg
END:VEVENT
BEGIN:VEVENT
DTSTART;TZID=Europe/Berlin:20260425T193000
DTEND;TZID=Europe/Berlin:20260425T193000
DTSTAMP:20260425T012239
CREATED:20260410T155824Z
LAST-MODIFIED:20260410T155824Z
UID:10003303-1777145400-1777145400@frankenvibes.de
SUMMARY:Musical Breaking up is hard to do
DESCRIPTION:SOMMER\, SONNE\, LIEBESKUMMER.\nMarge wird vor dem Altar sitzen gelassen. Also fährt sie mit ihrer Freundin Lois in die schon gebuchten Flitterwochen.\nIn den Catskill Mountains erwartet sie eine etwas in die Jahre gekommene Ferienanlage.\nEin Musikproduzent hat sich angekündigt\, um neue Talente zu suchen.\nDel – Entertainer und Frauenschwarm – wittert seine Chance.\nEINE WITZIGE GESCHICHTE VOLLER LIEBE\, WITZ UND MISSVERSTÄNDNISSE.
URL:https://frankenvibes.de/event/musical-breaking-up-is-hard-to-do-2/
LOCATION:Deutsche Fastnacht Akademie\, Am Dreistock 8\, Kitzingen\, 97318\, Germany
CATEGORIES:Konzert,Unterfranken
ATTACH;FMTTYPE=image/jpeg:https://frankenvibes.de/wp-content/uploads/2026/04/91771874-529C-4428-98FB-AD6D59E7455C.jpg
END:VEVENT
BEGIN:VEVENT
DTSTART;TZID=Europe/Berlin:20260425T200000
DTEND;TZID=Europe/Berlin:20260425T200000
DTSTAMP:20260425T012239
CREATED:20250718T095332Z
LAST-MODIFIED:20250718T095858Z
UID:10000975-1777147200-1777147200@frankenvibes.de
SUMMARY:EMMVEE: War das zu hart?
DESCRIPTION:EMMVEE ist back und verschiebt spielerisch die Grenzen des Humors! In seinem neusten Programm lädt er das Publikum ein\, gemeinsam mit ihm herauszufinden: Was darf Comedy eigentlich? Der Gedanke\, dass alle gleich sind\, steht dabei an erster Stelle. EMMVEE macht Witze über alles und jeden und teilt Erfahrungen aus seinem eigenen Leben. Dabei setzt er seinen unwiderstehlichen Charme ein und zieht das Publikum mit seinem typischen humorvollen Augenzwinkern in seinen Bann. Durch eine gelungene Mischung aus Interaktionen mit dem Publikum und messerscharfen Pointen wird EMMVEEs Show zu einem einzigartigen Erlebnis. Danach darf sich das Publikum selbst die Frage stellen: War das zu hart? \nBildquelle: Ramiro Simone
URL:https://frankenvibes.de/event/emmvee-war-das-zu-hart-2/
LOCATION:Meistersingerhalle Nürnberg\, Münchener Str. 21\, Nürnberg\, 90478\, Germany
CATEGORIES:Kabarett & Comedy
ATTACH;FMTTYPE=image/jpeg:https://frankenvibes.de/wp-content/uploads/2025/07/hpemmveewdzhtour2025a1plakatdruck-mit-einkleber_l.jpg
END:VEVENT
BEGIN:VEVENT
DTSTART;TZID=Europe/Berlin:20260425T200000
DTEND;TZID=Europe/Berlin:20260425T200000
DTSTAMP:20260425T012239
CREATED:20260206T101546Z
LAST-MODIFIED:20260424T094240Z
UID:10002604-1777147200-1777147200@frankenvibes.de
SUMMARY:⭐️ Vonda Shepard - EUROPEAN SPRING TOUR 2026
DESCRIPTION:Mit ihrer gefühlvollen Stimme\, leidenschaftlichen Bühnenpräsenz und der beeindruckenden Verbindung aus Gesang und Klavier begeistert Vonda Shepard seit Jahrzehnten ihr Publikum – im Frühjahr 2026 geht die US-amerikanische Musikerin wieder auf große Europa-Tournee und macht natürlich auch in Deutschland Halt! \nBegleitet wird sie wie immer von ihrer herausragenden All-Star-Band: James Ralston an der Gitarre (22 Jahre mit Tina Turner)\, Jim Hanson am Bass (Bruce Springsteen\, Johnny Cash) und Fritz Lewak am Schlagzeug (30 Jahre mit Jackson Browne). Gemeinsam bringen sie eine mitreißende Mischung auf die Bühne – mit Songs aus Vondas 14 Studioalben\, beliebten Klassikern aus der Ally McBeal-Ära und brandneuen Stücken. \nGanz besonders freut sich Vonda auf die Termine in Deutschland\, denn hier ist in den letzten Jahren eine treue und stetig wachsende Fan-Community entstanden. „Es fühlt sich mittlerweile fast wie ein Wiedersehen mit der Familie an – die Energie ist jedes Mal unglaublich!“\, erzählt sie begeistert. \n„Ich liebe es\, mich ans Klavier zu setzen\, ein paar Songs solo zu spielen – und dann mit meiner Band so richtig loszulegen. Am Ende soll es eine große Party sein\, bei der niemand mehr sitzen bleibt und alle mitsingen! Ich freue mich riesig\, auch neue Songs im Gepäck zu haben\, denn ich arbeite gerade an einem neuen Album\, das im Frühjahr 2026 erscheinen soll. Stand jetzt: Es entwickelt sich zu etwas GROSSEM! Die Aufnahmen starten im Mai“\, so Vonda weiter. \nVonda Shepard \nVonda Shepard wurde 1963 in New York City in eine künstlerisch geprägte Familie geboren. Bereits mit sechs Jahren begann sie Klavier zu spielen\, schrieb mit acht ihre ersten Songs und stand mit 14 das erste Mal auf der Bühne. Ursprünglich träumte sie von einer Karriere als Astrophysikerin – doch nach ihrem ersten Auftritt als Musikerin war klar: Die Musik ist ihre Welt. \nAb 1985 tourte Vonda als Backgroundsängerin und Keyboarderin mit Rickie Lee Jones\, Al Jarreau und Jackson Browne\, für dessen Tournee sie ab 1996 erstmals als Solokünstlerin eröffnete. Den internationalen Durchbruch schaffte sie 1997 mit ihrer Rolle als Bar-Sängerin in der Kultserie Ally McBeal. Mit dem Titelsong Searchin My Soul landete sie einen weltweiten Hit – insgesamt steuerte sie über 500 Songs zur Serie bei. \nBis heute hat Vonda Shepard über 12 Millionen Alben verkauft\, wurde mit zwei Golden Globes\, zwei Emmys und zwei Screen Actors Guild Awards ausgezeichnet und hält den Billboard-Rekord für die meistverkauften TV-Soundtracks aller Zeiten. \nBildquelle: Pressefoto
URL:https://frankenvibes.de/event/vonda-shepard-european-spring-tour-2026/
LOCATION:Kulturboden Hallstadt\, An der Marktscheune 1\, Hallstadt\, 96103\, Germany
CATEGORIES:Konzert,Rock & Pop
ATTACH;FMTTYPE=image/jpeg:https://frankenvibes.de/wp-content/uploads/2026/02/VSPresspic1_l.jpg
END:VEVENT
BEGIN:VEVENT
DTSTART;TZID=Europe/Berlin:20260425T200000
DTEND;TZID=Europe/Berlin:20260425T200000
DTSTAMP:20260425T012239
CREATED:20260327T075739Z
LAST-MODIFIED:20260327T075744Z
UID:10003004-1777147200-1777147200@frankenvibes.de
SUMMARY:ENGST
DESCRIPTION:Deutschrock mit Energie und Haltung. \nBildquelle: Herr Wedding
URL:https://frankenvibes.de/event/engst/
LOCATION:Hirsch Nürnberg\, Vogelweiherstraße 66\, Nürnberg\, 90441\, Germany
CATEGORIES:Konzert,Rock & Pop
ATTACH;FMTTYPE=image/jpeg:https://frankenvibes.de/wp-content/uploads/2026/03/Engst_c_HerrWedding_900.jpg
END:VEVENT
BEGIN:VEVENT
DTSTART;TZID=Europe/Berlin:20260425T200000
DTEND;TZID=Europe/Berlin:20260425T200000
DTSTAMP:20260425T012239
CREATED:20260327T110237Z
LAST-MODIFIED:20260327T110246Z
UID:10003106-1777147200-1777147200@frankenvibes.de
SUMMARY:Silhouettes
DESCRIPTION:Das Beste zum Schluss. Am Samstag\, den 26.04.2025 spielt die Legende und Kultband „Silhouettes“ mit ihrem Frontmann Werner Pöhlmann (ex sound city group“) im Rahmen der Kulturreihe „Kultur im Steigerwald“ in Burgebrach.
URL:https://frankenvibes.de/event/silhouettes/
LOCATION:Steigerwaldhalle Burgebrach\, Bamberger Str. 40\, Burgebrach\, 96138\, Germany
CATEGORIES:Konzert
ATTACH;FMTTYPE=image/jpeg:https://frankenvibes.de/wp-content/uploads/2026/03/kis_silhouettes_quad.jpg
END:VEVENT
BEGIN:VEVENT
DTSTART;TZID=Europe/Berlin:20260425T200000
DTEND;TZID=Europe/Berlin:20260425T200000
DTSTAMP:20260425T012239
CREATED:20260330T095925Z
LAST-MODIFIED:20260330T095931Z
UID:10003064-1777147200-1777147200@frankenvibes.de
SUMMARY:MINISTRY OF RHYTHM
DESCRIPTION:Umsonst & Drinnen Club\nSoul. Groove. Funk. Vielfalt. \nMinistry of Rhythm\, kurz MoR\, steht für pure Energie\, tiefe Emotion und einen unwiderstehlichen Groove. Die fünfköpfige Band bringt Soul\, Funk und Groove auf die Bühne – kraftvoll\, bunt und authentisch. Im Mittelpunkt: Eine charismatische Sängerin\, die mit viel Gefühl und Ausdruck das Publikum berührt und begeistert. \nWas MoR besonders macht\, ist nicht nur ihr Sound\, sondern die Menschen dahinter. Die Band vereint unterschiedliche Generationen und kulturelle Hintergründe – ein bunter Mix\, der sich direkt in ihrer Musik widerspiegelt. Mal tanzbar und treibend\, mal tiefgründig und berührend – MoR kombinieren Rhythmus mit Inhalt. \nDer kulturelle und altersmäßige Reichtum innerhalb der Band sorgt für kreative Spannung\, neue Perspektiven und ein musikalisches Spektrum\, das weit über Genregrenzen hinausreicht. Ministry of Rhythm ist mehr als eine Band – es ist ein klanggewordenes Statement für Vielfalt\, Zusammenhalt und Groove mit Seele. \nFoto: E-Werk Erlangen
URL:https://frankenvibes.de/event/ministry-of-rhythm/
LOCATION:E-Werk Erlangen\, Fuchsenwiese 1\, Erlangen\, 91054
CATEGORIES:Groove / Funk / Experimental,Soul & Funk
ATTACH;FMTTYPE=image/jpeg:https://frankenvibes.de/wp-content/uploads/2026/03/csm_20260425_Ministry_of_Rhythm_Bandfoto_a48f35a295.jpg
END:VEVENT
BEGIN:VEVENT
DTSTART;TZID=Europe/Berlin:20260425T200000
DTEND;TZID=Europe/Berlin:20260425T200000
DTSTAMP:20260425T012239
CREATED:20260330T100150Z
LAST-MODIFIED:20260330T100156Z
UID:10003097-1777147200-1777147200@frankenvibes.de
SUMMARY:Die Wanze
DESCRIPTION:von Karin Eppler nach dem Roman von Paul Shipton\n„Ich stecke wieder genau da\, wo ich mich bestens auskenne – in großen\, großen Schwierigkeiten.“ Für den lässigen Privatermittler Muldoon ist kein Fall zu komplex\, kein Mysterium zu verwirrend. Der raubeinige Ermittler\, der vielleicht an einen Detektiv aus einem Film Noir erinnert\, muss sich jedoch nicht in einem Großstadtdschungel durchschlagen\, stattdessen ermittelt Muldoon in einem kleinen Vorgarten. Bei dem von allen “Wanze” genannten Ermittler handelt es sich schließlich um einen Käfer\, der sich mit Autoritätsfiguren anlegt\, die weit über ihm in der Nahrungskette stehen. \nAuf der Suche nach einer verschwundenen Ameise gerät Muldoon in ein Netz aus Intrigen\, das ihn vor ungeahnte moralische Dilemma stellt. Und so wird der Insektenkrimi zum Metaphern-Abend\, der Themen wie Umweltverbrechen und Kollektivismus aufgreift. Selbst der mit allen Wassern gewaschene Muldoon muss mit Bedacht auftreten\, wenn er diesen Fall lösen möchte und am Ende mit dem Leben davonkommen will. Dieser packende Kriminalfall entführt nicht nur die arme Ameise Clarissa\, sondern auch das Publikum in eine Welt voller Insekten und Intrigen. \nFoto: Theater Ansbach
URL:https://frankenvibes.de/event/die-wanze/
LOCATION:Theater Ansbach\, Promenade 29\, Ansbach\, 91522\, Germany
CATEGORIES:Theater
ATTACH;FMTTYPE=image/png:https://frankenvibes.de/wp-content/uploads/2026/03/Die-Wanze_54.png
END:VEVENT
BEGIN:VEVENT
DTSTART;TZID=Europe/Berlin:20260425T200000
DTEND;TZID=Europe/Berlin:20260425T200000
DTSTAMP:20260425T012239
CREATED:20260417T073322Z
LAST-MODIFIED:20260417T073328Z
UID:10003402-1777147200-1777147200@frankenvibes.de
SUMMARY:Sei gegrüßt und geküsst\, mein herztausiger Schatz!
DESCRIPTION:Lustige und merkwürdige Liebesbotschaften aus 3 Jahrhunderten\nmit Rebecca Kirchmann und Arnd Rühlmann \nBildquelle: nana theater Club Kaulberg
URL:https://frankenvibes.de/event/sei-gegruesst-und-gekuesst-mein-herztausiger-schatz-3/
LOCATION:Nana Theater im Club Kaulberg  Bamberg\, Unterer Kaulberg 3\, Bamberg\, 96049
CATEGORIES:Oberfranken,Theater
ATTACH;FMTTYPE=image/png:https://frankenvibes.de/wp-content/uploads/2026/04/Bildschirmfoto-2026-04-17-um-09.21.09.png
END:VEVENT
BEGIN:VEVENT
DTSTART;TZID=Europe/Berlin:20260425T203000
DTEND;TZID=Europe/Berlin:20260425T203000
DTSTAMP:20260425T012239
CREATED:20260131T094532Z
LAST-MODIFIED:20260131T095013Z
UID:10002474-1777149000-1777149000@frankenvibes.de
SUMMARY:Let’s Dance - Freier Tanz für alle
DESCRIPTION:Abtanzen bei Rock|Pop|Funk|Soul|Punk|Rap|Disko|und mehr mit DJ clabaudrio \nBildquelle: Disharmonie\, Schweinfurt
URL:https://frankenvibes.de/event/lets-dance-freier-tanz-fuer-alle-4/
LOCATION:Kulturwerkstatt Disharmonie Schweinfurt\, Gutermann-Promenade 7\, Schweinfurt\, 97421\, Germany
CATEGORIES:Party
ATTACH;FMTTYPE=image/webp:https://frankenvibes.de/wp-content/uploads/2026/01/disco-ball-1091230_1280.jpg-3.webp
END:VEVENT
BEGIN:VEVENT
DTSTART;TZID=Europe/Berlin:20260425T203000
DTEND;TZID=Europe/Berlin:20260425T203000
DTSTAMP:20260425T012239
CREATED:20260320T105512Z
LAST-MODIFIED:20260320T105534Z
UID:10002958-1777149000-1777149000@frankenvibes.de
SUMMARY:fluppe
DESCRIPTION:fluppe Dodgers Tour – präsentiert von VISIONS\, ByteFM & OX/livegigs.de \nFlup·pe /Flúppe/ Substan/v\, feminin [die] \nsteht umgangssprachlich für Zigarette. Sie ist mithin ein fast niedlich klingendes Wort für eine nicht ganz ungefährliche Sache. Hier und dort wird auch ein misslauniger Gesichtsausdruck als Fluppe bezeichnet. Beide Beschreibungen passen auf die Band ziemlich gut. \nfluppe sind der Stengel\, der in deinem Vorgarten nichts verloren hat\, der Vogelschiss auf deinem Volkswagen. fluppe sind ein Post-Punk-Quarte3 aus der Hansestadt Hamburg\, das ebenfalls ein Faible für Pop und Shoegaze hat. Der ehemalige Intro Chef Daniel Koch (u.a. Musikexpress\, Diffus) schreibt: „(…) musikalisch kommen einem eher diese räudig-poetschen Post-Punk-Bands wie shame\, Protomartyr oder auch IDLES in den Sinn.“ Kombiniert man dies mit der für die Hamburger Schule typischen Haltung und Skepsis gegenüber den bestehenden Verhältnissen\, so hat man in etwa die Koordinaten zusammen. Mehr braucht man nicht. \nDie Fluppe ist feminin. \nlinktr.ee/fluppeband \nBildquelle: Live Club
URL:https://frankenvibes.de/event/fluppe/
CATEGORIES:Konzert,Konzert | Punkrock
ATTACH;FMTTYPE=image/jpeg:https://frankenvibes.de/wp-content/uploads/2026/03/fluppe_tourplakat_26_0-scaled.jpg
END:VEVENT
BEGIN:VEVENT
DTSTART;TZID=Europe/Berlin:20260425T203000
DTEND;TZID=Europe/Berlin:20260425T203000
DTSTAMP:20260425T012239
CREATED:20260415T083215Z
LAST-MODIFIED:20260415T083222Z
UID:10003355-1777149000-1777149000@frankenvibes.de
SUMMARY:FLUPPE
DESCRIPTION:fluppe Dodgers Tour – präsentiert von VISIONS\, ByteFM & OX/livegigs.de \nFlup·pe /Flúppe/ Substan/v\, feminin [die] \nsteht umgangssprachlich für Zigarette. Sie ist mithin ein fast niedlich klingendes Wort für eine nicht ganz ungefährliche Sache. Hier und dort wird auch ein misslauniger Gesichtsausdruck als Fluppe bezeichnet. Beide Beschreibungen passen auf die Band ziemlich gut. \nfluppe sind der Stengel\, der in deinem Vorgarten nichts verloren hat\, der Vogelschiss auf deinem Volkswagen. fluppe sind ein Post-Punk-Quarte3 aus der Hansestadt Hamburg\, das ebenfalls ein Faible für Pop und Shoegaze hat. Der ehemalige Intro Chef Daniel Koch (u.a. Musikexpress\, Diffus) schreibt: „(…) musikalisch kommen einem eher diese räudig-poetschen Post-Punk-Bands wie shame\, Protomartyr oder auch IDLES in den Sinn.“ Kombiniert man dies mit der für die Hamburger Schule typischen Haltung und Skepsis gegenüber den bestehenden Verhältnissen\, so hat man in etwa die Koordinaten zusammen. Mehr braucht man nicht. \nDie Fluppe ist feminin. \n  \n\n\n\n\n\n\nSie sehen gerade einen Platzhalterinhalt von YouTube. Um auf den eigentlichen Inhalt zuzugreifen\, klicken Sie auf die Schaltfläche unten. Bitte beachten Sie\, dass dabei Daten an Drittanbieter weitergegeben werden. \n Mehr Informationen \n Inhalt entsperren Erforderlichen Service akzeptieren und Inhalte entsperren \n \n \n\n  \nBildquelle: Live-Club Bamberg
URL:https://frankenvibes.de/event/fluppe-2/
LOCATION:Live-Club Bamberg\, Obere Sandstraße 7\, Bamberg\, 96049
CATEGORIES:Konzert,Oberfranken
ATTACH;FMTTYPE=image/jpeg:https://frankenvibes.de/wp-content/uploads/2026/04/fluppe_tourplakat_26_0-2-scaled.jpg
END:VEVENT
BEGIN:VEVENT
DTSTART;TZID=Europe/Berlin:20260425T213000
DTEND;TZID=Europe/Berlin:20260425T213000
DTSTAMP:20260425T012239
CREATED:20260320T111601Z
LAST-MODIFIED:20260320T111620Z
UID:10002960-1777152600-1777152600@frankenvibes.de
SUMMARY:90er bis 2010er Party XXL - DJ Don Mattino
DESCRIPTION:Die 90er waren crazy\, die 2000er cool – ABER die 2010er? Das Jahrzehnt der absoluten Partyhits!\nVon Last Friday Night bis Dynamite\, von Rihanna über David Guetta & Avicii bis zu Flo Rida und Pitbull.Shine bright like a Diamond und vergiss die tristen 20er – wir bringen DIE Hits zurück! \nFeiere mit uns zu Drake\, SXTN\, Frauenarzt\, SDP\, Chris Brown\, Seeed\, Taylor Swift und vielen mehr. Das wird EPISCH!\nIn den Haas Sälen geht´s bereits um 21:30 Uhr los.
URL:https://frankenvibes.de/event/90er-bis-2010er-party-xxl-dj-don-mattino/
LOCATION:Haas Säle Bamberg\, Obere Sandstraße 7\, Bamberg\, 96049
CATEGORIES:Party
ATTACH;FMTTYPE=image/png:https://frankenvibes.de/wp-content/uploads/2026/03/2026_04_25_90er_bis_2010er_party_xxl_0-2.png
END:VEVENT
BEGIN:VEVENT
DTSTART;TZID=Europe/Berlin:20260425T213000
DTEND;TZID=Europe/Berlin:20260425T220000
DTSTAMP:20260425T012239
CREATED:20260320T110033Z
LAST-MODIFIED:20260320T110039Z
UID:10002959-1777152600-1777154400@frankenvibes.de
SUMMARY:90er bis 2010er Party XXL - DJ Valdemossa
DESCRIPTION:Die 90er waren crazy\, die 2000er cool – ABER die 2010er? Das Jahrzehnt der absoluten Partyhits!\nVon Last Friday Night bis Dynamite\, von Rihanna über David Guetta & Avicii bis zu Flo Rida und Pitbull.Shine bright like a Diamond und vergiss die tristen 20er – wir bringen DIE Hits zurück! \nFeiere mit uns zu Drake\, SXTN\, Frauenarzt\, SDP\, Chris Brown\, Seeed\, Taylor Swift und vielen mehr. Das wird EPISCH!\nIn den Haas Sälen geht´s bereits um 21:30 Uhr los.
URL:https://frankenvibes.de/event/90er-bis-2010er-party-xxl-dj-valdemossa/
LOCATION:Live-Club Bamberg\, Obere Sandstraße 7\, Bamberg\, 96049
CATEGORIES:Party
ATTACH;FMTTYPE=image/png:https://frankenvibes.de/wp-content/uploads/2026/03/2026_04_25_90er_bis_2010er_party_xxl_0.png
END:VEVENT
BEGIN:VEVENT
DTSTART;TZID=Europe/Berlin:20260425T220000
DTEND;TZID=Europe/Berlin:20260425T220000
DTSTAMP:20260425T012239
CREATED:20260330T100426Z
LAST-MODIFIED:20260330T100431Z
UID:10003062-1777154400-1777154400@frankenvibes.de
SUMMARY:RIFF & RAGE
DESCRIPTION:Alternative Rock / Metal / Metalcore DJ Set & Show\nMoshen\, Headbangen und Circle Pit auf dem Dance Floor. Schnapp dir deine Freund*innen und erlebe harte Riffs nicht mehr nur bei Konzerten\, sondern auch im Club. Feiere mit uns zu Bring Me The Horizon\, Linkin Park\, Beartooth\, Green Day\, A Day To Remember und vielen mehr! Mit einer krassen Lichtshow und Visuals bieten wir euch alles\, was euer Metal-Herz begehrt. \nFoto: E-Werk Erlangen
URL:https://frankenvibes.de/event/riff-rage-2/
LOCATION:E-Werk Erlangen\, Fuchsenwiese 1\, Erlangen\, 91054
CATEGORIES:Metal
ATTACH;FMTTYPE=image/png:https://frankenvibes.de/wp-content/uploads/2026/03/csm_Titelbild__1__080b5a27c7.png
END:VEVENT
BEGIN:VEVENT
DTSTART;TZID=Europe/Berlin:20260425T220000
DTEND;TZID=Europe/Berlin:20260425T220000
DTSTAMP:20260425T012239
CREATED:20260330T100632Z
LAST-MODIFIED:20260330T100639Z
UID:10003063-1777154400-1777154400@frankenvibes.de
SUMMARY:HOUSE OF DNB
DESCRIPTION:Wir bringen Drum & Bass nach Erlangen!\nMelodic\, high-energy & modern sounds. Gemacht für den Dancefloor und einen Abend voller Hype. \nFoto: E-Werk Erlangen
URL:https://frankenvibes.de/event/house-of-dnb/
LOCATION:E-Werk Erlangen\, Fuchsenwiese 1\, Erlangen\, 91054
CATEGORIES:Party
ATTACH;FMTTYPE=image/png:https://frankenvibes.de/wp-content/uploads/2026/03/csm_Homepage_965b2dfa5c.png
END:VEVENT
BEGIN:VEVENT
DTSTART;TZID=Europe/Berlin:20260425T220000
DTEND;TZID=Europe/Berlin:20260425T220000
DTSTAMP:20260425T012239
CREATED:20260330T100829Z
LAST-MODIFIED:20260330T100837Z
UID:10003065-1777154400-1777154400@frankenvibes.de
SUMMARY:90S VS. 2000ER
DESCRIPTION:mit DJ Chris\nRing frei für das Match der Jahrzehnte! Im großen Saal treffen Giganten aufeinander: Return of the 90s vs. 2000er Party. Die Gleichung ist ganz einfach und geht garantiert auf: 1 Floor + 2 Jahrzehnte = 1 geile Party. Macht euch auf was gefasst! Backstreet Boys vs. O-Town\, Beastie Boys vs. Deichkind\, Britney Spears vs. Anastacia\, TLC vs. Destiny´s Child\, Nirvana vs. Jimmy Eat World\, 2Pac vs. 50 Cent\, Snoop Doggy Dogg vs. Snoop Dog\, Oasis vs. Wir sind Helden. Klingt gut? Ist es auch! \nFoto: E-Werk Erlangen
URL:https://frankenvibes.de/event/90s-vs-2000er-4/
LOCATION:E-Werk Erlangen\, Fuchsenwiese 1\, Erlangen\, 91054
CATEGORIES:Party
ATTACH;FMTTYPE=image/jpeg:https://frankenvibes.de/wp-content/uploads/2026/03/csm_Samstagspartys_90er2000er_website_1f6efd95fb-4.jpg
END:VEVENT
END:VCALENDAR